    BEGIN:VCALENDAR
VERSION:2.0
PRODID:-//HERZOG Kultur- &amp; Stadtmagazin - ECPv4.9.2//NONSGML v1.0//EN
CALSCALE:GREGORIAN
METHOD:PUBLISH
X-WR-CALNAME:HERZOG Kultur- &amp; Stadtmagazin
X-ORIGINAL-URL:https://www.herzog-magazin.de
X-WR-CALDESC:Veranstaltungen im HERZOG Kultur- &amp; Stadtmagazin
BEGIN:VEVENT
DTSTART;TZID=Europe/Berlin:20181109T160000
DTEND;TZID=Europe/Berlin:20181109T190000
DTSTAMP:20260424T020908
CREATED:20181016T223205Z
LAST-MODIFIED:20181016T223205Z
UID:16986-1541779200-1541790000@www.herzog-magazin.de
SUMMARY:Leben und Werk der Lyrikerin Hilde Domin
DESCRIPTION:Leben und Werk der Lyrikerin Hilde Domin  »Man muss weggehen und doch sein wie ein Baum.«\n„Dass ich sein kann\, wie ich bin“\, das wünschte sie sich. Angenommen zu werden\, auch von ihrem Ernst\, ihrem Mann.\nErst in ihrem vierzigsten Lebensjahrzehnt begann sie nach sie umtreibenden Schicksalseinbrüchen mit dem Schreiben von Gedichten. Für sie war es wie eine zweite Geburt.\n1909 in Köln in einer bürgerlichen\, assimilierten jüdischen Familie geboren\, konnte sie in Heidelberg und Berlin studieren und musste dann zunächst ins Exil nach Italien. Als es dort zu gefährlich wurde\, floh sie illegal nach England und von dort weiter ins Exil in die Dominikanische Republik.\nIhre Gedichte erzählen von ihren Flucht- und Exilerfahrungen\, aber sie wendet sich auch dem großen Thema der Liebe zu: weiß von erfüllter und verletzter Liebe zu schreiben. Die Gedichte erzählen von ihrer Sehnsucht nach Leben und Erfüllung und von dem Trost\, den wir in der Natur finden.\nAls sie in den fünfziger Jahren zurück nach Deutschland kam\, musste sie sich nach 20 Jahren zurecht finden und fragte sich\, wie die Deutschen mit ihrer Vergangenheit umgehen. Aber sie war eine Frau\, die den Weg der Versöhnung ging – auf allen Ebenen. \nAls sie im hohen Alter von 97 Jahren im Februar 2006 starb\, schloss sich ein reiches Leben\, das mit permanenten Wandel und einer Treue zu sich selbst einherging. \nDer Vortrag beleuchtet ihr Leben und wird beispielhaft ihre Gedichte und Essays in einem thematisch–chronologischen Kontext herausarbeiten. \n9. November \, 17 bis 19.45 Uhr Elke Bennetreu 7\,50 € inkl. Vesper Tel.: 9966-0 oder eeb@kkrjuelich.de \n
URL:https://www.herzog-magazin.de/event/leben-und-werk-der-lyrikerin-hilde-domin/
LOCATION:Peter Beier Haus\, Aachener Straße 13a\, Jülich\, NRW\, 52428\, Deutschland
GEO:50.9246717;6.3530827
X-APPLE-STRUCTURED-LOCATION;VALUE=URI;X-ADDRESS=Peter Beier Haus Aachener Straße 13a Jülich NRW 52428 Deutschland;X-APPLE-RADIUS=500;X-TITLE=Aachener Straße 13a:geo:6.3530827,50.9246717
CATEGORIES:Geschichte,Vortrag
ATTACH;FMTTYPE=image/jpeg:https://www.herzog-magazin.de/wp-content/uploads/2018/04/Apfelbaum-Naturverein-Koslar.jpg
ORGANIZER;CN="Evangelische%20Erwachsenenbildung%20im%20Kirchenkreis%20J%C3%BClich":MAILTO:eeb@kkrjuelich.de
END:VEVENT
END:VCALENDAR