    BEGIN:VCALENDAR
VERSION:2.0
PRODID:-//HERZOG Kultur- &amp; Stadtmagazin - ECPv4.9.2//NONSGML v1.0//EN
CALSCALE:GREGORIAN
METHOD:PUBLISH
X-WR-CALNAME:HERZOG Kultur- &amp; Stadtmagazin
X-ORIGINAL-URL:https://www.herzog-magazin.de
X-WR-CALDESC:Veranstaltungen im HERZOG Kultur- &amp; Stadtmagazin
BEGIN:VEVENT
DTSTART;TZID=Europe/Berlin:20221022T150000
DTEND;TZID=Europe/Berlin:20221022T150000
DTSTAMP:20260420T082524
CREATED:20221003T141820Z
LAST-MODIFIED:20221003T141820Z
UID:89796-1666450800-1666450800@www.herzog-magazin.de
SUMMARY:Lena Johannson: Lesung in der Stadtbücherei
DESCRIPTION:Szenische Lesung aus der Buchreihe „Die Frauen vom Jungfernstieg“ bei Kaffee und Kuchen in der Stadtbücherei Jülich: Trotz erschwerter Corona-Bedingungen hat es der erste Band ihrer neuen Hamburg-Saga „Die Frauen vom Jungfernstieg“ auf die Spiegel-Bestsellerliste geschafft. Lena Johannson erzählt darin die Geschichte des Unternehmers Oscar Troplowitz aus der Perspektive von drei Frauen. \n„Kaum jemand kann etwas mit dem Namen Troplowitz anfangen. Dabei hat er den Konzern Beiersdorf zu dem gemacht\, was er ist\, und Marken wie Nivea oder Labello etabliert“\, sagt Johannson. Außerdem hat sich der 1918 verstorbene Apotheker um die Rechte der Arbeiter ebenso gekümmert wie um die städtebauliche Entwicklung Hamburgs. Zudem war er ein Kunstkenner. Zusammen mit seiner Frau hinterließ er der Hansestadt eine kostbare Sammlung.  \n„Die drei Aspekte Kaufmann\, soziales Engagement und Förderung der Kunst haben mich von der ersten Sekunde an begeistert“\, so Lena Johannson. „Für mich macht das den Kern dieses Mannes aus. Deshalb habe ich mich entschieden\, seine Geschichte aus den Blickwinkeln von drei Frauen zu erzählen\, die jeweils für eine Eigenschaft beziehungsweise Tätigkeit stehen.“ \nNicht nur das. Johannson verlässt zwischendurch ihren Leseplatz und schlüpft in zwei ihrer Frauenfiguren\, so dass diese auf der Bühne lebendig werden – jede in ihrer unverwechselbar liebenswerten Art. „Eigentlich wollte ich mal Schauspielerin werden“\, erzählt sie lachend. „In der Schauspielschule habe ich gemerkt\, dass das allein nicht das Richtige für mich ist.“  \nNun verbindet sie ihre beiden Leidenschaften und bietet ihren Zuschauern am Samstag\, 22. Oktober\, um 15 Uhr in der Stadtbücherei Jülich einen intensiven Nachmittag\, der mehr ist als nur eine Lesung. Die Tickets zu diesem besonderen Nachmittag mit Lena Johannson sind für 10 Euro in der Stadtbücherei Jülich erhältlich und beinhalten einen Kaffee und ein Stück Kuchen. \n
URL:https://www.herzog-magazin.de/event/lena-johannson-lesung-in-der-stadtbuecherei/
LOCATION:Stadtbücherei Jülich\, Kleine Rurstraße 42\, Jülich\, NRW\, 52428\, Deutschland
GEO:50.9209335;6.3559376
X-APPLE-STRUCTURED-LOCATION;VALUE=URI;X-ADDRESS=Stadtbücherei Jülich Kleine Rurstraße 42 Jülich NRW 52428 Deutschland;X-APPLE-RADIUS=500;X-TITLE=Kleine Rurstraße 42:geo:6.3559376,50.9209335
CATEGORIES:kulturelle Bildung,Literatur
ATTACH;FMTTYPE=image/jpeg:https://www.herzog-magazin.de/wp-content/uploads/2022/10/Lena-Johannson-Foto-Andre-Leisner-2018.jpg
ORGANIZER;CN="Stadtb%C3%BCcherei%20J%C3%BClich":MAILTO:stadtbuecherei@juelich.de
END:VEVENT
END:VCALENDAR