    BEGIN:VCALENDAR
VERSION:2.0
PRODID:-//HERZOG Kultur- &amp; Stadtmagazin - ECPv4.9.2//NONSGML v1.0//EN
CALSCALE:GREGORIAN
METHOD:PUBLISH
X-WR-CALNAME:HERZOG Kultur- &amp; Stadtmagazin
X-ORIGINAL-URL:https://www.herzog-magazin.de
X-WR-CALDESC:Veranstaltungen im HERZOG Kultur- &amp; Stadtmagazin
BEGIN:VEVENT
DTSTART;TZID=Europe/Berlin:20200308T140000
DTEND;TZID=Europe/Berlin:20200308T160000
DTSTAMP:20260421T045923
CREATED:20200218T085812Z
LAST-MODIFIED:20200218T085906Z
UID:34675-1583676000-1583683200@www.herzog-magazin.de
SUMMARY:LEONARDO: DIE WERKE
DESCRIPTION:Dokumentation | GB 2019 | FSK: o.A. | Regie: Phil Grabsky \nAnlässlich des 500. Todestag von Leonardo: Präsentation der Gemälde einzigartiger Ultra HD-Qualität und Kommentare von weltweit führenden Experten \nLeonardo da Vinci wird als der weltweit beliebteste Künstler gefeiert. Viele Fernsehsendungen und Spielfilme haben dieses außergewöhnliche Genie gezeigt\, aber oft nicht genau genug untersucht\, ist das wichtigste Element von allem: seine Kunst. Leonardos unvergleichliche Gemälde und Zeichnungen stehen im Mittelpunkt von Leonardo: Die Werke\, wenn EXHIBITION ON SCREEN jedes einzelne zugeschriebene Gemälde in Ultra HD-Qualität präsentiert\, wie es sie noch nie zuvor auf der Kinoleinwand gab. \nIn Kooperation mit dem Jülicher Geschichtsverein 1923 e.V. \nVorstellung: 14 Uhr / Einlass: 13:30 Uhr \nIn der Pause gibt es Kaffee und Kuchen. \nEinführung von Guido von Büren\, Jülicher Geschichtsverein 1923 e.V. \n
URL:https://www.herzog-magazin.de/event/leonardo-die-werke/
LOCATION:Kulturbahnhof (KuBa) Jülich\, Bahnhofsstraße 13\, Jülich\, NRW\, 52428\, Deutschland
GEO:50.91828;6.36768
X-APPLE-STRUCTURED-LOCATION;VALUE=URI;X-ADDRESS=Kulturbahnhof (KuBa) Jülich Bahnhofsstraße 13 Jülich NRW 52428 Deutschland;X-APPLE-RADIUS=500;X-TITLE=Bahnhofsstraße 13:geo:6.36768,50.91828
CATEGORIES:Kino
ATTACH;FMTTYPE=image/jpeg:https://www.herzog-magazin.de/wp-content/uploads/2020/02/maxresdefault-2.jpg
ORGANIZER;CN="KuBa%20J%C3%BClich":MAILTO:info@kuba-juelich.de
END:VEVENT
END:VCALENDAR