    BEGIN:VCALENDAR
VERSION:2.0
PRODID:-//HERZOG Kultur- &amp; Stadtmagazin - ECPv4.9.2//NONSGML v1.0//EN
CALSCALE:GREGORIAN
METHOD:PUBLISH
X-WR-CALNAME:HERZOG Kultur- &amp; Stadtmagazin
X-ORIGINAL-URL:https://www.herzog-magazin.de
X-WR-CALDESC:Veranstaltungen im HERZOG Kultur- &amp; Stadtmagazin
BEGIN:VEVENT
DTSTART;TZID=Europe/Berlin:20250507T100000
DTEND;TZID=Europe/Berlin:20250507T150000
DTSTAMP:20260422T104005
CREATED:20250404T104439Z
LAST-MODIFIED:20250404T104439Z
UID:145824-1746612000-1746630000@www.herzog-magazin.de
SUMMARY:Lernort Stadtbücherei
DESCRIPTION:Die Stadtbücherei Jülich öffnet auch in diesem Jahr wieder exklusiv und kostenlos für Lernende in der Zeit vor den Abiturprüfungen für weitere 25 Stunden. Dies ist eine großartige Gelegenheit für alle Schülerinnen und Schüler\, sich in einer ruhigen und entspannten Atmosphäre auf ihre Prüfungen vorzubereiten.  \nDie Bücherei bietet verschiedene Arbeitsbereiche und Materialien an\, um den Schülerinnen und Schülern das bestmögliche Lernumfeld zu bieten. Es gibt Einzelarbeitsplätze sowie Gruppenarbeitsplätze\, die mit Strom für Laptop oder Tablet und WLAN ausgestattet sind. Auch ein Kopierer steht zur Verfügung.  \nIn der School Corner finden sich zudem Lernhilfen\, um die Schülerinnen und Schülern bei der Vorbereitung zu unterstützen. Besonders ruhige Arbeitsplätze befinden sich ebenfalls im Bereich der School Corner. Auch Lerngruppen (mit oder ohne Lehrperson) sind herzlich willkommen\, um gemeinsam den Stoff zu wiederholen oder zu vertiefen. \n
URL:https://www.herzog-magazin.de/event/lernort-stadtbuecherei/2025-05-07/
LOCATION:Stadtbücherei Jülich\, Kleine Rurstraße 42\, Jülich\, NRW\, 52428\, Deutschland
GEO:50.9209335;6.3559376
X-APPLE-STRUCTURED-LOCATION;VALUE=URI;X-ADDRESS=Stadtbücherei Jülich Kleine Rurstraße 42 Jülich NRW 52428 Deutschland;X-APPLE-RADIUS=500;X-TITLE=Kleine Rurstraße 42:geo:6.3559376,50.9209335
CATEGORIES:für Jugendliche,Schule
ATTACH;FMTTYPE=image/jpeg:https://www.herzog-magazin.de/wp-content/uploads/2025/03/LernortStaBue_web.jpg
ORGANIZER;CN="Stadtb%C3%BCcherei%20J%C3%BClich":MAILTO:stadtbuecherei@juelich.de
END:VEVENT
END:VCALENDAR