    BEGIN:VCALENDAR
VERSION:2.0
PRODID:-//HERZOG Kultur- &amp; Stadtmagazin - ECPv4.9.2//NONSGML v1.0//EN
CALSCALE:GREGORIAN
METHOD:PUBLISH
X-WR-CALNAME:HERZOG Kultur- &amp; Stadtmagazin
X-ORIGINAL-URL:https://www.herzog-magazin.de
X-WR-CALDESC:Veranstaltungen im HERZOG Kultur- &amp; Stadtmagazin
BEGIN:VEVENT
DTSTART;TZID=Europe/Berlin:20231017T190000
DTEND;TZID=Europe/Berlin:20231017T190000
DTSTAMP:20260423T002646
CREATED:20231005T100407Z
LAST-MODIFIED:20231005T100437Z
UID:115644-1697569200-1697569200@www.herzog-magazin.de
SUMMARY:Lesung mit Christel Netuschil
DESCRIPTION:In die Stadt der Liebe\, genau gesagt in „Das kleine Café in der Rue de la Lune“ nimmt Autorin Christel Netuschil am Dienstag\, 17. Oktober\, ihre Gäste bei der Lesung in der Stadtbücherei Jülich mit. Beginn ist um 19 Uhr. Karten sind zu 8 Euro im Vorverkauf in der Stadtbücherei Jülich im Kulturhaus am Hexenturm erhältlich. \nIn der Nähe des Eifelturms übernimmt Lucille das heruntergewirtschaftete Café ihrer Großtante\, um es vor der Übernahme durch die Patisserie-Kette Gibaldi zu bewahren. Die Rettung scheint unmöglich\, nicht zuletzt durch Lucilles Weigerung\, ihre Ungebundenheit aufzugeben. Doch dann tritt Tiago in ihr Leben. \nChristel Netuschil hat in der Vergangenheit Kinder und Erwachsene dabei unterstützt\, sich schriftstellerisch auszudrücken. Eigenen Vorstellungen\, Wünschen und Ängsten\, aber auch fiktiven Begebenheiten einen literarischen Raum zu schenken\, ist Christel Netuschils vorrangiges Ansinnen. Nach einigen Veröffentlichungen von Kurzgeschichten und Erzählungen schreibt sie seit 2021 vorrangig Liebesromane. Die 45-Jährige lebt und schreibt mit ihrer Familie und mehreren Haustieren am Niederrhein. \n
URL:https://www.herzog-magazin.de/event/lesung-mit-christel-netuschil/
LOCATION:Stadtbücherei Jülich\, Kleine Rurstraße 42\, Jülich\, NRW\, 52428\, Deutschland
GEO:50.9209335;6.3559376
X-APPLE-STRUCTURED-LOCATION;VALUE=URI;X-ADDRESS=Stadtbücherei Jülich Kleine Rurstraße 42 Jülich NRW 52428 Deutschland;X-APPLE-RADIUS=500;X-TITLE=Kleine Rurstraße 42:geo:6.3559376,50.9209335
CATEGORIES:kulturelle Bildung,Literatur
ATTACH;FMTTYPE=image/jpeg:https://www.herzog-magazin.de/wp-content/uploads/2023/03/Stadtbuecherei-Juelich-Foto-Dorothee-Schenk.jpg
ORGANIZER;CN="Stadt%20J%C3%BClich":MAILTO:info@juelich.de
END:VEVENT
END:VCALENDAR