    BEGIN:VCALENDAR
VERSION:2.0
PRODID:-//HERZOG Kultur- &amp; Stadtmagazin - ECPv4.9.2//NONSGML v1.0//EN
CALSCALE:GREGORIAN
METHOD:PUBLISH
X-WR-CALNAME:HERZOG Kultur- &amp; Stadtmagazin
X-ORIGINAL-URL:https://www.herzog-magazin.de
X-WR-CALDESC:Veranstaltungen im HERZOG Kultur- &amp; Stadtmagazin
BEGIN:VEVENT
DTSTART;TZID=Europe/Berlin:20190627T093000
DTEND;TZID=Europe/Berlin:20190627T093000
DTSTAMP:20260424T185255
CREATED:20190520T114753Z
LAST-MODIFIED:20190520T115349Z
UID:25020-1561627800-1561627800@www.herzog-magazin.de
SUMMARY:LETO
DESCRIPTION:FILMFRÜHSTÜCK \nBiographie\, Drama\, Musik | Russland\, Frankreich 2018 | FSK: ab 12 | 128 Min. |  Reservierung zwingend erforderlich: 02461-346 643 oder online im Ticketshop | Regie: Kirill Serebrennikov | Darsteller: Teo Yoo\, Irina Starshenbaum\, Roman Bilyk \nLeningrad\, ein Sommer zu Beginn der 1980er. Während Alben von Lou Reed und David Bowie heimlich die Besitzer wechseln\, brodelt die Underground-Rockszene. Mike und seine Frau Natascha lernen den charismatischen Musiker Viktor Zoi kennen. Ihre unbändige Leidenschaft für die Musik verbindet sie schnell zu einer eigenwilligen Dreieckskonstellation. Als Teil einer neuen Musikbewegung werden sie trotz staatlich kontrollierter Konzerte das Schicksal des Rock ’n‘ Rolls in der Sowjetunion verändern.  \nNach der wahren Geschichte um die legendäre russische Rockband Kino fängt LETO das Lebensgefühl einer sich nach Freiheit sehnenden Generation kurz vor der Perestroika ein. Mit verspielter Bilderwelt und pulsierendem Soundtrack von Talking Heads\, Iggy Pop bis zu Blondie gelingt Kirill Serebrennikow ein mitreißendes und leichtfüßiges Zeitbild einer Jugend zwischen Rebellion und dem Leben unter Zensur. Eine kluge Hymne auf die ungestüme Kraft von Musik\, Liebe und Freundschaft.  \n\n\n   \n\nMit dem Laden des Videos akzeptieren Sie die Datenschutzerklärung von YouTube.Mehr erfahren \nVideo laden \n YouTube immer entsperren \n \nPGRpdiBjbGFzcz0iX2JybGJzLWZsdWlkLXdpZHRoLXZpZGVvLXdyYXBwZXIiPjxpZnJhbWUgd2lkdGg9IjY0MCIgaGVpZ2h0PSIzNjAiIHNyYz0iaHR0cHM6Ly93d3cueW91dHViZS1ub2Nvb2tpZS5jb20vZW1iZWQvVGtFUlJjamcybDg/ZmVhdHVyZT1vZW1iZWQiIGZyYW1lYm9yZGVyPSIwIiBhbGxvdz0iYWNjZWxlcm9tZXRlcjsgYXV0b3BsYXk7IGVuY3J5cHRlZC1tZWRpYTsgZ3lyb3Njb3BlOyBwaWN0dXJlLWluLXBpY3R1cmUiIGFsbG93ZnVsbHNjcmVlbj48L2lmcmFtZT48L2Rpdj4=\n\nKooperation mit dem Evangelischen Erwachsenenbildungswerk im Kirchenkreis Jülich. \n
URL:https://www.herzog-magazin.de/event/leto/
LOCATION:Kulturbahnhof (KuBa) Jülich\, Bahnhofsstraße 13\, Jülich\, NRW\, 52428\, Deutschland
GEO:50.91828;6.36768
X-APPLE-STRUCTURED-LOCATION;VALUE=URI;X-ADDRESS=Kulturbahnhof (KuBa) Jülich Bahnhofsstraße 13 Jülich NRW 52428 Deutschland;X-APPLE-RADIUS=500;X-TITLE=Bahnhofsstraße 13:geo:6.36768,50.91828
CATEGORIES:Kino
ATTACH;FMTTYPE=image/jpeg:https://www.herzog-magazin.de/wp-content/uploads/2019/05/maxresdefault-8.jpg
ORGANIZER;CN="KuBa%20J%C3%BClich":MAILTO:info@kuba-juelich.de
END:VEVENT
END:VCALENDAR