    BEGIN:VCALENDAR
VERSION:2.0
PRODID:-//HERZOG Kultur- &amp; Stadtmagazin - ECPv4.9.2//NONSGML v1.0//EN
CALSCALE:GREGORIAN
METHOD:PUBLISH
X-WR-CALNAME:HERZOG Kultur- &amp; Stadtmagazin
X-ORIGINAL-URL:https://www.herzog-magazin.de
X-WR-CALDESC:Veranstaltungen im HERZOG Kultur- &amp; Stadtmagazin
BEGIN:VEVENT
DTSTART;TZID=Europe/Berlin:20221023T113000
DTEND;TZID=Europe/Berlin:20221023T130000
DTSTAMP:20260421T010955
CREATED:20221008T120936Z
LAST-MODIFIED:20221008T120936Z
UID:90094-1666524600-1666530000@www.herzog-magazin.de
SUMMARY:Lieblingsbücher 2022 in der Rentei Niederzier
DESCRIPTION:Unter dem Titel „Unsere neuen Lieblingsbücher 2022“ gastiert Gudrun Kaschluhn am Sonntag\, 23. Oktober\, von 11.30 bis 13 Uhr in der Rentei / Rathaus Niederzier\, Rathausstraße 8. Aus den vielen Neuerscheinungen der Buchmesse hat sie einige besonders interessante Bücher vorab gelesen und ausgewählt. Der Eintritt kostet 7 Euro. \nUnterstützt wird sie vom Team aus den Literaturkursen der VHS. Sie geben nicht nur Tipps für Vielleser\, sondern stellen auch Romane\, Sachbücher\, Kinderbücher und so manch ungewöhnliche Lektüre der Buchmesse vor. Die meisten der besprochenen Bücher können nach dem Vortrag ausgeliehen werden. \n
URL:https://www.herzog-magazin.de/event/lieblingsbuecher-2022-in-der-rentei-niederzier/
LOCATION:Rentei / Rathaus Niederzier\, Rathausstraße 8\, Niederzier\, NRW\, 52382\, Deutschland
CATEGORIES:kulturelle Bildung,Literatur
ATTACH;FMTTYPE=image/jpeg:https://www.herzog-magazin.de/wp-content/uploads/2022/10/Herbstnovitäten-Kaschluhn-Netz.jpg
END:VEVENT
END:VCALENDAR