    BEGIN:VCALENDAR
VERSION:2.0
PRODID:-//HERZOG Kultur- &amp; Stadtmagazin - ECPv4.9.2//NONSGML v1.0//EN
CALSCALE:GREGORIAN
METHOD:PUBLISH
X-WR-CALNAME:HERZOG Kultur- &amp; Stadtmagazin
X-ORIGINAL-URL:https://www.herzog-magazin.de
X-WR-CALDESC:Veranstaltungen im HERZOG Kultur- &amp; Stadtmagazin
BEGIN:VEVENT
DTSTART;TZID=Europe/Berlin:20190622T140000
DTEND;TZID=Europe/Berlin:20190622T000000
DTSTAMP:20260420T220456
CREATED:20190529T144714Z
LAST-MODIFIED:20190529T144714Z
UID:25381-1561212000-1561161600@www.herzog-magazin.de
SUMMARY:Lindenfest in Merzenhausen
DESCRIPTION:Das traditionelle Lindenfest in Merzenhausen lädt wieder ein. Es findet am Samstag\, 22. Juni\, ab 14:00 Uhr auf dem Lindenplatz und in der Bürgerhalle statt. Unter neuem Look – federführend ist die IG Metzehuuse rut wiess – im Verbund mit den Dorfvereinen präsentiert sich das klassische Bauerdorf wieder von seiner besten Seite.  \nDas Essen auf dem Lande vom Spanferkel bis zur echten Merzenhausener Kartoffelspezialität steht ebenso wieder im Mittelpunkt wie der Show- und Tanzabend auf der Außenbühne. Die Band Ilex wird hier in diesem Jahr dem Publikum einheizen. Ein Auftritt des „Viergestirns“ darf natürlich nicht fehlen. Zudem gibt es viele weitere Programmpunkte wie Wein- und Bierstand\, Wasserbombenschießen\, Kistenklettern und einen Zauberer. Der Eintritt ist frei\, das Ende offen\, denn in Merzenhausen lässt es sich gut feiern. \n
URL:https://www.herzog-magazin.de/event/lindenfest-in-merzenhausen/
LOCATION:Bürgerhalle Merzenhausen\, Prämienstraße 43\, Jülich\, 52428
CATEGORIES:Brauchtum,Festival & Markt,für Jugendliche,für Kinder,Musik,Musik & Konzerte
ATTACH;FMTTYPE=image/jpeg:https://www.herzog-magazin.de/wp-content/uploads/2019/05/Lindenfest2019a.jpg
END:VEVENT
END:VCALENDAR