    BEGIN:VCALENDAR
VERSION:2.0
PRODID:-//HERZOG Kultur- &amp; Stadtmagazin - ECPv4.9.2//NONSGML v1.0//EN
CALSCALE:GREGORIAN
METHOD:PUBLISH
X-WR-CALNAME:HERZOG Kultur- &amp; Stadtmagazin
X-ORIGINAL-URL:https://www.herzog-magazin.de
X-WR-CALDESC:Veranstaltungen im HERZOG Kultur- &amp; Stadtmagazin
BEGIN:VEVENT
DTSTART;TZID=Europe/Berlin:20200308T080000
DTEND;TZID=Europe/Berlin:20200308T170000
DTSTAMP:20260421T132857
CREATED:20200211T120542Z
LAST-MODIFIED:20200211T120542Z
UID:34365-1583654400-1583686800@www.herzog-magazin.de
SUMMARY:Literarisch-musikalisches Frühstück: "Frühlingserwachen"
DESCRIPTION:Nach einer glanzvollen Premiere im vergangenen Advent geht das literarische Frühstück mit René Blanche und Elena Kelzenberg am Sonntag\, 8. März\, in die nächste Runde. Viele Glückwünsche und positive Rückmeldungen hatten sowohl die Künstler als auch die Veranstalter der städtischen Musikschule bekommen. Oft wurde die Frage gestellt: „Wann gibt’s das nächste Literarisch-musikalische Frühstück?“  \nVier Mal jährlich soll nun die beliebte Veranstaltungsreihe in Jülich gastieren\, die am 8. März das Titelthema „Frühlingserwachen“ tragen wird. Das Konzept ist einfach und erprobt: Schauspieler und Regisseur René Blanche rezitiert Verse\, Gedichte\, Briefe und Balladen berühmter Geister\, in den Pausen unterhält Elena Kelzenberg mit virtuosem Klavierspiel. Ein umfangreiches Frühstück rundet den Genuss für alle Sinne ab. Und da im Frühling die Liebe wieder erwacht\, wird das Thema Liebe im Zentrum von „Frühlingserwachen“ stehen.  \n„Nach meinem Empfinden ist die Liebe eigentlich gar kein Gefühl“\, erläutert Blanche\, der sich seit Jahren über eine stetig wachsende Anhängerschar freuen kann. „Die Liebe ist ein Zustand\, der alle Gefühle verstärkt! Wenn wir lieben\, sind wir enthusiastischer und mutiger aber auch eifersüchtiger und wütender. Und vor allem: Wir schreiben besser! Und genau das gilt auch für die großen Geister\, deren Texte ich präsentieren werde. Diesen Überschwang auf das Auditorium zu übertragen\, halte ich für meine Aufgabe.“ Mit Elena Kelzenberg hat Blanche nicht nur eine exzellente Pianistin an seiner Seite\, Kelzenberg ist zudem Dozentin an der Musikschule Jülich.  \nAuch diesmal wird Eventcaterer Peter Plantikow wieder mit der Kreation des Frühstücks betraut sein. „Da auch das Frühstück zentraler Bestandteil der Veranstaltung ist\, sind wir auch hier – wie gewohnt – mit Herz\, Leidenschaft und einem hohen Qualitätsanspruch dabei!“\, freut sich Plantikow bereits.  \nKarten zu je 22 Euro gibt es bei der Musikschule Jülich (auch online-Reservierungen möglich unter musikschule@juelich.de) sowie bei der Buchhandlung Thalia in der Kölnstr. 9 in Jülich.  \nWeitere Termine: 14. Juni „Urlaubsreif“\, 11. Oktober „Herbstbunt“\, 13. Dezember „Schlittenfahrt“ \n
URL:https://www.herzog-magazin.de/event/literarisch-musikalisches-fruehstueck-fruehlingserwachen/
LOCATION:Musikschule Jülich\, Linnicher Straße\, Jülich\, NRW\, 52428\, Deutschland
GEO:50.9301747;6.3545449
X-APPLE-STRUCTURED-LOCATION;VALUE=URI;X-ADDRESS=Musikschule Jülich Linnicher Straße Jülich NRW 52428 Deutschland;X-APPLE-RADIUS=500;X-TITLE=Linnicher Straße:geo:6.3545449,50.9301747
CATEGORIES:kulturelle Bildung,Literatur,Musik,Musik & Konzerte
ATTACH;FMTTYPE=image/jpeg:https://www.herzog-magazin.de/wp-content/uploads/2020/02/Rezitator-Rene-Blanche-Netz.jpg
ORGANIZER;CN="Musikschule%20J%C3%BClich":MAILTO:Musikschule@juelich.de
END:VEVENT
END:VCALENDAR