    BEGIN:VCALENDAR
VERSION:2.0
PRODID:-//HERZOG Kultur- &amp; Stadtmagazin - ECPv4.9.2//NONSGML v1.0//EN
CALSCALE:GREGORIAN
METHOD:PUBLISH
X-WR-CALNAME:HERZOG Kultur- &amp; Stadtmagazin
X-ORIGINAL-URL:https://www.herzog-magazin.de
X-WR-CALDESC:Veranstaltungen im HERZOG Kultur- &amp; Stadtmagazin
BEGIN:VEVENT
DTSTART;TZID=Europe/Berlin:20220406T150000
DTEND;TZID=Europe/Berlin:20220406T170000
DTSTAMP:20260424T014707
CREATED:20220317T114836Z
LAST-MODIFIED:20220317T114836Z
UID:76155-1649257200-1649264400@www.herzog-magazin.de
SUMMARY:Literaturnachmittag mit Margret Hanuschkin
DESCRIPTION:„Frieden\, wo ist deine Heimat?“: Um in schwierigen Zeiten einander Mut zu machen\, lädt der Regionale Arbeitskreis Seniorenbildung am Mittwoch\, 6. April\, von 15 bis 17 Uhr zu einem Literaturnachmittag in die Pfarrkirche St. Marien Düren\, Hoeschplatz 1\, ein. Literatur verbindet Menschen aller Generationen und Völker. Gemeinsam mit der Referentin Margret Hanuschkin soll mit grenzübergreifenden Hoffnungsgedichten und Geschichten ein Zeichen gesetzt werden gegen Hass und Krieg. \nWer einen Text haben\, der zur Thematik passt\, sollte diesen bitte mitbringen. So ließen sich Lichter der Hoffnung in einer bewegten und dunklen Zeit anzünden. Veranstalter ist der Caritasverband für die Region Düren-Jülich e.V.\, Regionaler Arbeitskreis Seniorenbildung und mehr und Kooperationspartner. \nDie Teilnahmegebühr beträgt 6 Euro. Es ist zu beachten\, dass eine verbindliche Anmeldung nötig ist und die Gebühr vorab überwiesen werden muss. Nähere Informationen dazu erhalten Interessierte bei der Anmeldung. Anmeldung können Sie sich nur beim Caritasverband Düren-Jülich e.V.\, Tel. 02421 / 48163 bei Janine Ahlert oder E-Mail jahlert@caritas-dn.de. \nEs gelten die 3G Regeln. \n
URL:https://www.herzog-magazin.de/event/literaturnachmittag-mit-margret-hanuschkin/
LOCATION:Caritasverband Düren-Jülich\, Kurfürstenstr. 10-12\, Düren\, NRW\, 52351\, Deutschland
GEO:50.7991;6.48775
X-APPLE-STRUCTURED-LOCATION;VALUE=URI;X-ADDRESS=Caritasverband Düren-Jülich Kurfürstenstr. 10-12 Düren NRW 52351 Deutschland;X-APPLE-RADIUS=500;X-TITLE=Kurfürstenstr. 10-12:geo:6.48775,50.7991
CATEGORIES:Literatur,Politik
ATTACH;FMTTYPE=image/jpeg:https://www.herzog-magazin.de/wp-content/uploads/2022/03/HZG_Caritas-1.jpg
END:VEVENT
END:VCALENDAR