    BEGIN:VCALENDAR
VERSION:2.0
PRODID:-//HERZOG Kultur- &amp; Stadtmagazin - ECPv4.9.2//NONSGML v1.0//EN
CALSCALE:GREGORIAN
METHOD:PUBLISH
X-WR-CALNAME:HERZOG Kultur- &amp; Stadtmagazin
X-ORIGINAL-URL:https://www.herzog-magazin.de
X-WR-CALDESC:Veranstaltungen im HERZOG Kultur- &amp; Stadtmagazin
BEGIN:VEVENT
DTSTART;TZID=Europe/Berlin:20191024T200000
DTEND;TZID=Europe/Berlin:20191024T230000
DTSTAMP:20260425T192020
CREATED:20191003T072522Z
LAST-MODIFIED:20191003T072522Z
UID:29781-1571947200-1571958000@www.herzog-magazin.de
SUMMARY:Locks - Skeletal Blues und Folk
DESCRIPTION:LOCKS sind ein „Waits-infused“ Alt-Folk Quartett aus London. \n„Kontrabass\, Geige\, Schlagzeug\, Gitarre\, Gesang\, mehr braucht es nicht\, um eine der beeindruckendsten Alben desJahres vorzulegen.“ Carsten Wehrhoff\, RBB \nPurveyors of the macabre\, their songs rumble from gin-soaked shanties to death march-esque ballads joining the sheer enjoyment of words\, meanings and sound with a wonderful playfulness. \n\n\n   \n\nMit dem Laden des Videos akzeptieren Sie die Datenschutzerklärung von YouTube.Mehr erfahren \nVideo laden \n YouTube immer entsperren \n \nPGRpdiBjbGFzcz0iX2JybGJzLWZsdWlkLXdpZHRoLXZpZGVvLXdyYXBwZXIiPjxpZnJhbWUgdGl0bGU9IlRoZSBHaW4gU29uZyIgd2lkdGg9IjY0MCIgaGVpZ2h0PSIzNjAiIHNyYz0iaHR0cHM6Ly93d3cueW91dHViZS1ub2Nvb2tpZS5jb20vZW1iZWQvaGtKRDZiVlZDZHc/ZmVhdHVyZT1vZW1iZWQiIGZyYW1lYm9yZGVyPSIwIiBhbGxvdz0iYWNjZWxlcm9tZXRlcjsgYXV0b3BsYXk7IGVuY3J5cHRlZC1tZWRpYTsgZ3lyb3Njb3BlOyBwaWN0dXJlLWluLXBpY3R1cmUiIGFsbG93ZnVsbHNjcmVlbj48L2lmcmFtZT48L2Rpdj4=\n\n  \n
URL:https://www.herzog-magazin.de/event/locks-skeletal-blues-und-folk/
LOCATION:Lynch’s Irish Pub\, Artilleriestr. 29\, Jülich\, NRW\, 52428\, Deutschland
GEO:50.93067;6.36098
X-APPLE-STRUCTURED-LOCATION;VALUE=URI;X-ADDRESS=Lynch’s Irish Pub Artilleriestr. 29 Jülich NRW 52428 Deutschland;X-APPLE-RADIUS=500;X-TITLE=Artilleriestr. 29:geo:6.36098,50.93067
CATEGORIES:Musik,Musik & Konzerte
ATTACH;FMTTYPE=image/jpeg:https://www.herzog-magazin.de/wp-content/uploads/2019/10/Locks-Band-London.jpg
ORGANIZER;CN="Menschsein%20e.V.":MAILTO:info@menschseinev.de
END:VEVENT
END:VCALENDAR