    BEGIN:VCALENDAR
VERSION:2.0
PRODID:-//HERZOG Kultur- &amp; Stadtmagazin - ECPv4.9.2//NONSGML v1.0//EN
CALSCALE:GREGORIAN
METHOD:PUBLISH
X-WR-CALNAME:HERZOG Kultur- &amp; Stadtmagazin
X-ORIGINAL-URL:https://www.herzog-magazin.de
X-WR-CALDESC:Veranstaltungen im HERZOG Kultur- &amp; Stadtmagazin
BEGIN:VEVENT
DTSTART;TZID=Europe/Berlin:20190629T150000
DTEND;TZID=Europe/Berlin:20190629T230000
DTSTAMP:20260424T120010
CREATED:20190611T093753Z
LAST-MODIFIED:20190611T093753Z
UID:25756-1561820400-1561849200@www.herzog-magazin.de
SUMMARY:Löschgruppe Barmen: Tag der offenen Tür
DESCRIPTION:Einen Tag der offenen Tür veranstaltet die Löschgruppe Barmen der Freiwilligen Feuerwehr JÜlich am Samstag\, 29. Juni. Für kleine Helden ist die Hüpfburg ab 15:00 Uhr an der Jägergasse 5 einsatzbereit. Für die größeren Kräfte ist eine Übung ab 16:00 Uhr in der Lankenstraße 7 angesetzt. Den Fassanstich übernimmt die Landtagsabgeordnete Dr. Patricia Peill um 17:00 Uhr. Weiterhin ist ab 22:00 Uhr eine Verlosung geplant.  \n
URL:https://www.herzog-magazin.de/event/loeschgruppe-barmen-tag-der-offenen-tuer/
LOCATION:Freiwillige Feuerwehr Barmen\, Jägergasse 6\, Jülich-Barmen\, NRW\, 52428\, Deutschland
CATEGORIES:für Kinder,Sonstiges
ATTACH;FMTTYPE=image/jpeg:https://www.herzog-magazin.de/wp-content/uploads/2018/06/Feuerwehr-Juelich.jpg
END:VEVENT
END:VCALENDAR