    BEGIN:VCALENDAR
VERSION:2.0
PRODID:-//HERZOG Kultur- &amp; Stadtmagazin - ECPv4.9.2//NONSGML v1.0//EN
CALSCALE:GREGORIAN
METHOD:PUBLISH
X-WR-CALNAME:HERZOG Kultur- &amp; Stadtmagazin
X-ORIGINAL-URL:https://www.herzog-magazin.de
X-WR-CALDESC:Veranstaltungen im HERZOG Kultur- &amp; Stadtmagazin
BEGIN:VEVENT
DTSTART;TZID=Europe/Berlin:20230428T180000
DTEND;TZID=Europe/Berlin:20230428T180000
DTSTAMP:20260420T131346
CREATED:20230427T112015Z
LAST-MODIFIED:20230427T112015Z
UID:105281-1682704800-1682704800@www.herzog-magazin.de
SUMMARY:LVR-Klinik Düren: Lesung „Notizen an Tobias“
DESCRIPTION:Aus seinem Buch „Notizen an Tobias – Gedanken eines Vaters zum Suizid seines Sohnes“ liest Golli Marboe am Freitag\, 28. April\, um 18 Uhr in Haus 5 der LVR-Klinik Düren. Alle Interessierten sind herzlich eingeladen. Die Veranstaltung ist kostenfrei und findet im Rahmen der Woche für das Leben statt. Die Gesprächsleitung übernimmt Stefan Uerschelen\, Seelsorger in der LVR-Klinik Düren. \nDer Wiener Journalist Golli Marboe verarbeitet in seinem Buch „Notizen an Tobias“ seine Erfahrungen im ersten Jahr nach dem Suizid seines Sohnes 2018. Im Anschluss an die Lesung besteht die Möglichkeit des Austausches. \nDie Woche für das Leben ist eine ökumenische Aktionswoche der katholischen und evangelischen Kirchen mit wechselnden Themenschwerpunkten. 2023 ist das Thema: Generation Z(ukunft). Sinnsuche zwischen Angst und Perspektive. \n
URL:https://www.herzog-magazin.de/event/lvr-klinik-dueren-lesung-notizen-an-tobias/
LOCATION:LVR-Klinik Düren\, Meckerstr.15\, Düren\, NRW\, 52353\, Deutschland
CATEGORIES:Literatur
ATTACH;FMTTYPE=image/jpeg:https://www.herzog-magazin.de/wp-content/uploads/2023/04/BuchcoverNotizen-an-Tobias-LVR-Klinik-Dueren-Netz.jpg
ORGANIZER;CN="LVR%20Klinik%20D%C3%BCren":MAILTO:klinik-dueren@lvr.de
END:VEVENT
END:VCALENDAR