    BEGIN:VCALENDAR
VERSION:2.0
PRODID:-//HERZOG Kultur- &amp; Stadtmagazin - ECPv4.9.2//NONSGML v1.0//EN
CALSCALE:GREGORIAN
METHOD:PUBLISH
X-WR-CALNAME:HERZOG Kultur- &amp; Stadtmagazin
X-ORIGINAL-URL:https://www.herzog-magazin.de
X-WR-CALDESC:Veranstaltungen im HERZOG Kultur- &amp; Stadtmagazin
BEGIN:VEVENT
DTSTART;TZID=Europe/Berlin:20230922T190000
DTEND;TZID=Europe/Berlin:20230922T190000
DTSTAMP:20260423T090112
CREATED:20230810T144247Z
LAST-MODIFIED:20230810T144247Z
UID:112201-1695409200-1695409200@www.herzog-magazin.de
SUMMARY:Mackefisch im KOMM Düren
DESCRIPTION:Das Kabarettduo Mackefisch ist am Freitag\, 22. September\, mit seinem Programm „Harmoniedergang“ im KOMM Kulturzentrum Düren zu Gast. Auftrittsbeginn ist um 19 Uhr. \nMit Harmoniegesang zum Dahinschmelzen und rasanter Wortakrobatik nehmen Mackefisch die Gefühlslage dieser Gesellschaft ins Visier: lustig und albern\, phantasievoll und poetisch\, bissig und gnadenlos. Dabei bedienen sich Lucie Mackert und Peter Fischer einer wüsten Mischung an Instrumenten von Piano über Banjo und Gitarre bis hin zu elektronischen Gameboysounds und selbstgebauten Upcycling-Trommeln aus alten Koffern.  \nOb martialisch treibend oder locker geswingt – die voranpreschende Energie dieses Zwei-Personen-Orchesters ist ansteckend. Mit Harmoniedergang liefert Mackefisch den ohrwurmtauglichen Soundtrack unserer Zeit. Mackefisch sind Gewinner zahlreicher Auszeichnungen und Preise (Mindener Stichling 2022\, St. Ingberter Pfanne 2022\, Kleinkunstpreis Baden-Württemberg 2021). \nÜbrigens: Um nachhaltig auf Tour zu sein\, schleifen die beiden ihre 80 kg Gepäck von Hand durch die Bahnhöfe dieser Republik. Alle Koffer werden artgerecht behandelt. \n
URL:https://www.herzog-magazin.de/event/mackefisch-im-komm-dueren/
LOCATION:KOMM\, August-Klotz-Straße 21\, Düren\, NRW\, 52349\, Deutschland
GEO:50.8000987;6.4790533
X-APPLE-STRUCTURED-LOCATION;VALUE=URI;X-ADDRESS=KOMM August-Klotz-Straße 21 Düren NRW 52349 Deutschland;X-APPLE-RADIUS=500;X-TITLE=August-Klotz-Straße 21:geo:6.4790533,50.8000987
CATEGORIES:Kabarett & Comedy,Musik,Musik & Konzerte
ATTACH;FMTTYPE=image/jpeg:https://www.herzog-magazin.de/wp-content/uploads/2023/08/Harmoniedergang-Mackefisch_Fotograf_MaxSaufler.jpg
ORGANIZER;CN="KOMM%20Jugend-%20und%20Kulturzentrum%20D%C3%BCren%20e.V.":MAILTO:info@komm-dueren.de
END:VEVENT
END:VCALENDAR