    BEGIN:VCALENDAR
VERSION:2.0
PRODID:-//HERZOG Kultur- &amp; Stadtmagazin - ECPv4.9.2//NONSGML v1.0//EN
CALSCALE:GREGORIAN
METHOD:PUBLISH
X-WR-CALNAME:HERZOG Kultur- &amp; Stadtmagazin
X-ORIGINAL-URL:https://www.herzog-magazin.de
X-WR-CALDESC:Veranstaltungen im HERZOG Kultur- &amp; Stadtmagazin
BEGIN:VEVENT
DTSTART;TZID=Europe/Berlin:20181105T190000
DTEND;TZID=Europe/Berlin:20181105T211000
DTSTAMP:20260424T210701
CREATED:20181022T070322Z
LAST-MODIFIED:20181022T071401Z
UID:17082-1541444400-1541452200@www.herzog-magazin.de
SUMMARY:Mackie Messer - Brechts Dreigroschenfilm
DESCRIPTION:Drama | Deutschland 2018 | FSK: ab 6 | Regie: Joachim Lang | Darsteller: Lars Eidinger\, Tobias Moretti\, Hannah Herzsprung\, Joachim Król\, Claudia Michelsen\, Britta Hammelstein\, Christian Redl \nIm August 1928 wird im Berliner Schiffbauerdamm Bertold Brechts „Dreigroschenoper“ uraufgeführt. Das Stück wird zum vollen Erfolg\, was den Urheber dazu veranlasst\, sein Werk für eine Filmadaption vorzubereiten. Der Komponist Kurt Weill steht ihm tatkräftig zur Seite\, gemeinsam streben sie danach\, die „Dreigroschenoper“ auf die große Leinwand zu bringen. Ihr Vorhaben\, die im 19. Jahrhundert angesiedelte Geschichte rund um den Ganoven Mackie Messer\, der mit der Polly\, der Tochter des sogenannten Bettlerkönigs Jonathan Jeremiah Peachum durchgebrannt ist\, zu verfilmen\, scheint realistisch\, doch dann ergeben sich diverse Probleme…\nJoachim Lang entschied sich dazu\, Dreigroschenoper und die wahre Geschichte der schlussendlich gescheiterten Verfilmungspläne zu parallelisieren. So setzt er nicht nur Brechts Werk und dessen Leben ein Denkmal\, sondern ordnet es auch in den gesellschaftlichen Kontext der späten deutschen 1920er-Jahre ein\, die geprägt waren von Weltwirtschaftskrise und aufkommendem Faschismus. \n\n\n   \n\nMit dem Laden des Videos akzeptieren Sie die Datenschutzerklärung von YouTube.Mehr erfahren \nVideo laden \n YouTube immer entsperren \n \nPGRpdiBjbGFzcz0iX2JybGJzLWZsdWlkLXdpZHRoLXZpZGVvLXdyYXBwZXIiPjxpZnJhbWUgd2lkdGg9IjY0MCIgaGVpZ2h0PSIzNjAiIHNyYz0iaHR0cHM6Ly93d3cueW91dHViZS1ub2Nvb2tpZS5jb20vZW1iZWQvSzlsSjkxWFdSV2M/ZmVhdHVyZT1vZW1iZWQiIGZyYW1lYm9yZGVyPSIwIiBhbGxvdz0iYXV0b3BsYXk7IGVuY3J5cHRlZC1tZWRpYSIgYWxsb3dmdWxsc2NyZWVuPjwvaWZyYW1lPjwvZGl2Pg==\n\n
URL:https://www.herzog-magazin.de/event/mackie-messer-brechts-dreigroschenfilm/2018-11-05/
LOCATION:Kulturbahnhof (KuBa) Jülich\, Bahnhofsstraße 13\, Jülich\, NRW\, 52428\, Deutschland
GEO:50.91828;6.36768
X-APPLE-STRUCTURED-LOCATION;VALUE=URI;X-ADDRESS=Kulturbahnhof (KuBa) Jülich Bahnhofsstraße 13 Jülich NRW 52428 Deutschland;X-APPLE-RADIUS=500;X-TITLE=Bahnhofsstraße 13:geo:6.36768,50.91828
CATEGORIES:Kino
ATTACH;FMTTYPE=image/jpeg:https://www.herzog-magazin.de/wp-content/uploads/2018/10/maxresdefault-1.jpg
ORGANIZER;CN="KuBa%20J%C3%BClich":MAILTO:info@kuba-juelich.de
END:VEVENT
END:VCALENDAR