    BEGIN:VCALENDAR
VERSION:2.0
PRODID:-//HERZOG Kultur- &amp; Stadtmagazin - ECPv4.9.2//NONSGML v1.0//EN
CALSCALE:GREGORIAN
METHOD:PUBLISH
X-WR-CALNAME:HERZOG Kultur- &amp; Stadtmagazin
X-ORIGINAL-URL:https://www.herzog-magazin.de
X-WR-CALDESC:Veranstaltungen im HERZOG Kultur- &amp; Stadtmagazin
BEGIN:VEVENT
DTSTART;TZID=Europe/Berlin:20230311T200000
DTEND;TZID=Europe/Berlin:20230311T200000
DTSTAMP:20260419T203605
CREATED:20230301T170734Z
LAST-MODIFIED:20230301T170734Z
UID:101589-1678564800-1678564800@www.herzog-magazin.de
SUMMARY:„Magic meets Dance“ in Linnich
DESCRIPTION:Magisch wird es in der Kultur- und Begegnungsstätte in Linnich\, Place de Lesquin\, am Samstag\, 11. März. Carsten Fenner\, Deutscher Meister der Großillusion\, versucht das Publikum in seinen Bann zu ziehen und zu verzaubern. „Magic meets Dance“ so nennt Carsten Fenner sein Programm. Er zeigt darin faszinierende Illusionen und ein Hauch von Las Vegas. \nUnter Illusionen sind Großtäuschungen zu verstehen\, und diese sind es wahrscheinlich auch\, die einem Zuschauer als erstes in den Sinn kommen\, wenn er mal abseits eines Kindergeburtstags an Zauberkunst denkt. Carsten Fenner und sein Team sind in diesem Genre zu Hause und wurden vom Magischen Zirkel von Deutschland mit einem ersten Platz in der Kategorie „Großillusion“ bei der Vorentscheidung zur Deutschen Meisterschaft der Zauberkunst ausgezeichnet.  \nDas Repertoire reicht dabei von modern interpretierten Klassikern der Zauberkunst\, wie einer zersägten Jungfrau bis hin zu aktuellen Illusionen\, die auch schon von David Copperfield\, Siegfried und Roy\, Hans Klok oder den Ehrlich Brothers vorgeführt wurden. Ein besonderes Highlight der Show stellt der Quickchange dar. Hier werden in atemberaubender Zeit und mit tänzerischem Know-How und Eleganz Kostümwechsel vollzogen. \nBeginn ist um 20 Uhr. Einlass wird ab 19 Uhr gewährt. Karten sind zum Preis von 24\,50 Euro in Jülich bei der Thalia Buchhandlung\, Kölnstraße 9\, Tel. 02461 / 93780 sowie in Linnich bei Schreibwaren Kaufmann\, Rurstr. 7\, Linnich\, Tel. 02462 / 8276; Getränke Havertz\, Brachelener Straße 1\, Linnich\, Tel. 02462 / 1871; und Kiosk & Cafe um´s Eck\, Rurstraße 32a\, Tel. 0176 / 10621516. \n
URL:https://www.herzog-magazin.de/event/magic-meets-dance-in-linnich/
LOCATION:Integrative Kultur- und Begegnungsstätte Linnich\, Place de Lesquin\, Linnich\, NRW\, 52441\, Deutschland
CATEGORIES:Show / Unterhaltung / Talk,Tanz
ATTACH;FMTTYPE=image/jpeg:https://www.herzog-magazin.de/wp-content/uploads/2023/03/Carsten-Fenner-Kati-Sack-Starlight-Foto-.jpg
ORGANIZER;CN="Stadt%20Linnich":MAILTO:mail@linnich.de
END:VEVENT
END:VCALENDAR