    BEGIN:VCALENDAR
VERSION:2.0
PRODID:-//HERZOG Kultur- &amp; Stadtmagazin - ECPv4.9.2//NONSGML v1.0//EN
CALSCALE:GREGORIAN
METHOD:PUBLISH
X-WR-CALNAME:HERZOG Kultur- &amp; Stadtmagazin
X-ORIGINAL-URL:https://www.herzog-magazin.de
X-WR-CALDESC:Veranstaltungen im HERZOG Kultur- &amp; Stadtmagazin
BEGIN:VEVENT
DTSTART;TZID=Europe/Berlin:20260502T180000
DTEND;TZID=Europe/Berlin:20260502T180000
DTSTAMP:20260424T154904
CREATED:20260414T112900Z
LAST-MODIFIED:20260414T112900Z
UID:167136-1777744800-1777744800@www.herzog-magazin.de
SUMMARY:Magier Mellow in Linnich
DESCRIPTION:Am Samstag\, 02. Mai verzaubert der Magier Mellow mit seiner Liveshow „Blow Your Mind!“ sein Publikum. Er titt um 18 Uhr in der Kultur- und Begegnungsstätte Linnich\, Place de Lesquin auf\, Einlass ist um 17 Uhr. \nDer sympathische Magier im Kapuzenpulli verbindet neuartige holographische Videoeffekte mit handgemachter Magie und interaktiven Illusionen. Mellow begeisterte bereits über 100.000 Menschen mit seinen Liveshows und verblüfft auf Social Media sowie im internationalen TV Millionen mit kreativen Illusionen und humorvollem Storytelling. Seine Show richtet sich an die ganze Familie – ein Abend zum Lachen und Staunen. \nWeitere Informationen finden Sie unter: https://mellowmagic.show \n
URL:https://www.herzog-magazin.de/event/magier-mellow-in-linnich/
LOCATION:Integrative Kultur- und Begegnungsstätte Linnich\, Place de Lesquin\, Linnich\, NRW\, 52441\, Deutschland
CATEGORIES:Show / Unterhaltung / Talk,Wissenschaft
ATTACH;FMTTYPE=image/jpeg:https://www.herzog-magazin.de/wp-content/uploads/2026/04/Mellow_Blow-Your-Mind_4x3_Logo_cmellow.jpg
ORGANIZER;CN="black%20neon%20entertainment%20GmbH":MAILTO:mail@black-neon.de
END:VEVENT
END:VCALENDAR