    BEGIN:VCALENDAR
VERSION:2.0
PRODID:-//HERZOG Kultur- &amp; Stadtmagazin - ECPv4.9.2//NONSGML v1.0//EN
CALSCALE:GREGORIAN
METHOD:PUBLISH
X-WR-CALNAME:HERZOG Kultur- &amp; Stadtmagazin
X-ORIGINAL-URL:https://www.herzog-magazin.de
X-WR-CALDESC:Veranstaltungen im HERZOG Kultur- &amp; Stadtmagazin
BEGIN:VEVENT
DTSTART;TZID=Europe/Berlin:20221213T110000
DTEND;TZID=Europe/Berlin:20221213T130000
DTSTAMP:20260424T125406
CREATED:20221201T120232Z
LAST-MODIFIED:20221201T120232Z
UID:94840-1670929200-1670936400@www.herzog-magazin.de
SUMMARY:„Mahlzeit“: Adventlicher Vormittag
DESCRIPTION:„Mahlzeit“ findet als adventlicher Vormittag mit den Kindern des Kindergartens St. Kornelius am Dienstag\, 13. Dezember\, im Generationentreffpunkt Rödingen statt. Die Kinder des Kindergartens St. Kornelius kommen zu Besuch und gestalten gemeinsam mit den Seniorinnen und Senioren den Vormittag mit vorweihnachtlichen Liedern und Geschichten. Anschließend wird gemeinsam gegessen. \nDas Angebot „Mahlzeit“ findet jeden zweiten Dienstag im Monat mit interessanten Themen und gutem Mittagessen für Seniorinnen und Senioren in der Alten Schule Rödingen\, Hohe Straße 12\, statt. Anmeldungen werden telefonisch im Pfarrbüro Rödingen unter der Telefonnummer 02463 / 7236 erbeten.  \nDer Kostenbeitrag für das Mittagessen beträgt 5 Euro. Wer eine Mitfahrgelegenheit bieten kann oder nutzen möchten\, meldet dies bitte ebenfalls mit an. \nTräger des Projekts sind die Gemeinschaft der katholischen Gemeinden Titz (GdG Titz) in Zusammenarbeit mit dem Bürgerverein „Unsere Alte Schule“ und dem Caritasverband für die Region Düren-Jülich.  \nWeitere Auskünfte erteilt das Büro des Caritasverbandes für die Region Düren in der Alten Schule\, Sylvia Karger\, unter Tel. 02463/ 7977000 oder skarger@caritas-dn.de.  \n
URL:https://www.herzog-magazin.de/event/mahlzeit-adventlicher-vormittag/
LOCATION:Alte Schule Rödingen\, Hohe Straße 12\, Titz-Rödingen\, 52445\, Deutschland
CATEGORIES:Brauchtum,Essen & Trinken,Senioren
ATTACH;FMTTYPE=image/jpeg:https://www.herzog-magazin.de/wp-content/uploads/2022/12/Caritas_HZG-1.jpg
ORGANIZER;CN="Caritasverband%20f%C3%BCr%20die%20Region%20D%C3%BCren-J%C3%BClich%20e.V.":MAILTO:info@cv-dueren.de
END:VEVENT
END:VCALENDAR