    BEGIN:VCALENDAR
VERSION:2.0
PRODID:-//HERZOG Kultur- &amp; Stadtmagazin - ECPv4.9.2//NONSGML v1.0//EN
CALSCALE:GREGORIAN
METHOD:PUBLISH
X-WR-CALNAME:HERZOG Kultur- &amp; Stadtmagazin
X-ORIGINAL-URL:https://www.herzog-magazin.de
X-WR-CALDESC:Veranstaltungen im HERZOG Kultur- &amp; Stadtmagazin
BEGIN:VEVENT
DTSTART;TZID=Europe/Berlin:20260520T150000
DTEND;TZID=Europe/Berlin:20260520T150000
DTSTAMP:20260424T080902
CREATED:20260420T104657Z
LAST-MODIFIED:20260420T104657Z
UID:167448-1779289200-1779289200@www.herzog-magazin.de
SUMMARY:Maiandacht in Barmen
DESCRIPTION:Die Frauengemeinschaft Barmen/Merzenhausen lädt herzlich ein zu einer Maiandacht am Mittwoch\, 20. Mai\, um 15 Uhr in der Kirche St. Martinus in Barmen. \nZum ersten Mal seit vielen Jahren findet die Andacht nachmittags statt\, damit an-schließend noch Zeit bleibt\, sich bei Kaffee und Kuchen gemütlich im Gemeinderaum zu versammeln. Alle aus dem Pastoralen Raum Aldenhoven/Jülich sind zur Mitfeier willkommen. \n
URL:https://www.herzog-magazin.de/event/maiandacht-in-barmen/
LOCATION:St. Martinus Barmen\, Kirchstraße 4\, Barmen\, NRW\, 52428\, Deutschland
GEO:50.94157;6.30443
X-APPLE-STRUCTURED-LOCATION;VALUE=URI;X-ADDRESS=St. Martinus Barmen Kirchstraße 4 Barmen NRW 52428 Deutschland;X-APPLE-RADIUS=500;X-TITLE=Kirchstraße 4:geo:6.30443,50.94157
CATEGORIES:Religion
ATTACH;FMTTYPE=image/jpeg:https://www.herzog-magazin.de/wp-content/uploads/2023/08/Barmen-IMG_2602-StMartinus-2018.jpg
ORGANIZER;CN="Hl.%20Maria%20Magdalena%20Aldenhoven%2FJ%C3%BClich":MAILTO:pfarramt@heilig-geist-juelich.de
END:VEVENT
END:VCALENDAR