    BEGIN:VCALENDAR
VERSION:2.0
PRODID:-//HERZOG Kultur- &amp; Stadtmagazin - ECPv4.9.2//NONSGML v1.0//EN
CALSCALE:GREGORIAN
METHOD:PUBLISH
X-WR-CALNAME:HERZOG Kultur- &amp; Stadtmagazin
X-ORIGINAL-URL:https://www.herzog-magazin.de
X-WR-CALDESC:Veranstaltungen im HERZOG Kultur- &amp; Stadtmagazin
BEGIN:VEVENT
DTSTART;TZID=Europe/Berlin:20260507T163000
DTEND;TZID=Europe/Berlin:20260507T163000
DTSTAMP:20260422T034726
CREATED:20260420T110133Z
LAST-MODIFIED:20260420T110133Z
UID:167453-1778171400-1778171400@www.herzog-magazin.de
SUMMARY:Maiandachten in der Pfarrei
DESCRIPTION:Maiandachten in der Pfarrei  \nIn der Pfarrei Hl. Maria Magdalena Aldenhoven/Jülich werden im Marienmonat Mai zahlreiche Andachten gefeiert: \n• dienstags um 17 Uhr in der Propsteikirche in Jülich und um 18 Uhr in Broich und in Stetternich\n• Dienstag\, 5. Mai und 26.Mai\, um 18 Uhr in Siersdorf\n• Mittwoch\, 6. Mai und 20. Mai\, um 18 Uhr in Aldenhoven\n• Mittwoch\, 6. Mai und 20. Mai\, um 18.30 Uhr in Schleiden\n• Donnerstag\, 7.Mai \, und Dienstag\, 26. Mai\, um 16.30 Uhr in Selgersdorf\n• Dienstag\, 5. Mai\, um 18 Uhr in Mersch\n• Mittwoch\, 6. Mai\, um 14.30 Uhr in Güsten und um 15 Uhr in Viehöven\n• Mittwoch\, 20. Mai\, um 15 Uhr in Barmen und um 18 Uhr in Krauthausen\n• Donnerstag\, 28. Mai\, um 19 Uhr in der Matthäus-Kapelle in Aldenhoven \n
URL:https://www.herzog-magazin.de/event/maiandachten-in-der-pfarrei/2026-05-07/
LOCATION:Allgemeiner Ort\, NRW\, Deutschland
CATEGORIES:Religion
ATTACH;FMTTYPE=image/jpeg:https://www.herzog-magazin.de/wp-content/uploads/2026/01/Logo_Hl-Maria-Magdalena-web.jpg
ORGANIZER;CN="Hl.%20Maria%20Magdalena%20Aldenhoven%2FJ%C3%BClich":MAILTO:pfarramt@heilig-geist-juelich.de
END:VEVENT
END:VCALENDAR