    BEGIN:VCALENDAR
VERSION:2.0
PRODID:-//HERZOG Kultur- &amp; Stadtmagazin - ECPv4.9.2//NONSGML v1.0//EN
CALSCALE:GREGORIAN
METHOD:PUBLISH
X-WR-CALNAME:HERZOG Kultur- &amp; Stadtmagazin
X-ORIGINAL-URL:https://www.herzog-magazin.de
X-WR-CALDESC:Veranstaltungen im HERZOG Kultur- &amp; Stadtmagazin
BEGIN:VEVENT
DTSTART;TZID=Europe/Berlin:20260526T163000
DTEND;TZID=Europe/Berlin:20260526T163000
DTSTAMP:20260421T125843
CREATED:20260420T105049Z
LAST-MODIFIED:20260420T105049Z
UID:167452-1779813000-1779813000@www.herzog-magazin.de
SUMMARY:Maiandachten in Selgersdorf
DESCRIPTION:Am Donnerstag\, 7. Mai und am Dienstag\, 26. Mai 2026 werden in der Gemeinde St. Stephanus Selgersdorf wieder Maiandachten gefeiert. \nBei gutem Wetter sollen sie vor der Schön-statt-Kapelle auf der Wiese hinter der Kirche stattfinden\, bei unpassendem in der Kirche. Beginn ist jeweils um 16.30 Uhr. \n
URL:https://www.herzog-magazin.de/event/maiandachten-in-selgersdorf/2026-05-26/
LOCATION:St. Stephanus\, Altenburger Straße\, Selgersdorf\, NRW\, 52428\, Deutschland
GEO:50.8877203;6.4074441
X-APPLE-STRUCTURED-LOCATION;VALUE=URI;X-ADDRESS=St. Stephanus Altenburger Straße Selgersdorf NRW 52428 Deutschland;X-APPLE-RADIUS=500;X-TITLE=Altenburger Straße:geo:6.4074441,50.8877203
CATEGORIES:Religion
ATTACH;FMTTYPE=image/jpeg:https://www.herzog-magazin.de/wp-content/uploads/2023/01/IMG_5257.Stephanusjpg.jpg
ORGANIZER;CN="Hl.%20Maria%20Magdalena%20Aldenhoven%2FJ%C3%BClich":MAILTO:pfarramt@heilig-geist-juelich.de
END:VEVENT
END:VCALENDAR