    BEGIN:VCALENDAR
VERSION:2.0
PRODID:-//HERZOG Kultur- &amp; Stadtmagazin - ECPv4.9.2//NONSGML v1.0//EN
CALSCALE:GREGORIAN
METHOD:PUBLISH
X-WR-CALNAME:HERZOG Kultur- &amp; Stadtmagazin
X-ORIGINAL-URL:https://www.herzog-magazin.de
X-WR-CALDESC:Veranstaltungen im HERZOG Kultur- &amp; Stadtmagazin
BEGIN:VEVENT
DTSTART;TZID=Europe/Berlin:20231126T180000
DTEND;TZID=Europe/Berlin:20231126T180000
DTSTAMP:20260419T145620
CREATED:20231009T153546Z
LAST-MODIFIED:20231021T145707Z
UID:116134-1701021600-1701021600@www.herzog-magazin.de
SUMMARY:Mandolinen-Orchester Koslar: Herbstkonzert
DESCRIPTION:Die letzten Töne des Orchesterwettbewerbs im Haus Overbach sind noch nicht verklungen\, und schon geht das Koslarer Zupforchester seine nächste Aufgabe an. Das Herbstkonzert am Totensonntag\, 26. November\, im PZ des Mädchengymnasiums Jülich\, Dr.-Weyer-Straße 5\, ist nicht mehr weit\, und die Proben laufen auf vollen Touren. Beginn ist um 18 Uhr. Einlass wird ab 17.30 Uhr gewährt. \nDer Eintritt beträgt 10 Euro für Erwachsene sowie 5 Euro für Kinder und Jugendliche. \nIm Jahr der Mandoline stehen Klänge aus Nah und Fern auf dem Programm. Während der erste Teil mit Vivaldi\, Mozart oder Sammertini mehr im Zeichen alter Meister steht\, widmet sich das Orchester nach der Pause neuerer Musik. Marlo Strauß\, der Dirigent des Orchesters\, hat hierzu mit seiner Komposition „Topas“ ein Werk von großer Spannung und szenischer Atmosphäre geschrieben\, das durch komplexe Rhythmen\, bunte Klangfarben und fulminanten Unisono-Passagen besticht. Ähnliche Attribute kann man dem Werk „Short Trip to Greece“ zuschreiben\, das der bekannte Gitarrenprofessor und Freund des Orchesters\, Dieter Kreidler\, komponierte. \nZum Schluss begibt sich das Ensemble mit zwei Fantasien und zwei Liedern auf eine musikalische Reise nach Japan. Solistin ist die Aachener Sopranistin Judith Hilgers. \nWeitere Informationen gibt es auf der Homepage des Orchesters unter mandolinen-orchester-koslar.de. \n
URL:https://www.herzog-magazin.de/event/mandolinen-orchester-koslar-herbstkonzert/
LOCATION:Mädchengymnasium Jülich MGJ\, Dr. Weyer Straße\, Jülich\, NRW\, 52428\, Deutschland
CATEGORIES:Musik,Musik & Konzerte
ATTACH;FMTTYPE=image/jpeg:https://www.herzog-magazin.de/wp-content/uploads/2023/10/MandolinenorchesterKoslar2023.jpg
ORGANIZER;CN="Mandolinen-Orchester%20Rurtal%201928%20Koslar%20e.V.":MAILTO:info@mandolinen-orchester-koslar.de
END:VEVENT
END:VCALENDAR