    BEGIN:VCALENDAR
VERSION:2.0
PRODID:-//HERZOG Kultur- &amp; Stadtmagazin - ECPv4.9.2//NONSGML v1.0//EN
CALSCALE:GREGORIAN
METHOD:PUBLISH
X-WR-CALNAME:HERZOG Kultur- &amp; Stadtmagazin
X-ORIGINAL-URL:https://www.herzog-magazin.de
X-WR-CALDESC:Veranstaltungen im HERZOG Kultur- &amp; Stadtmagazin
BEGIN:VEVENT
DTSTART;TZID=Europe/Berlin:20230306T200000
DTEND;TZID=Europe/Berlin:20230306T220000
DTSTAMP:20260425T034005
CREATED:20230209T132758Z
LAST-MODIFIED:20230209T132935Z
UID:98918-1678132800-1678140000@www.herzog-magazin.de
SUMMARY:Maria träumt – Oder: Die Kunst des Neuanfangs
DESCRIPTION:Komödie | Frankreich 2022 | FSK: ab 6 | 93 Min. | 6.50 Euro / 6.00 Euro erm. |Regie: Lauriane Escaffre\, Yvo Muller | Darsteller: Karin Viard\, Grégory Gadebois\, Noée Abita \nMaria muss einen beruflichen Neuanfang starten. Die alte Dame\, deren Haushalt sie viele Jahre geführt hat\, ist verstorben und so fängt Maria als Reinigungskraft in der Pariser Académie des Beaux-Arts an. Dort öffnet sich ihr eine völlig neue Welt: die Dynamik der weltoffenen Studierenden\, ihre kreativen Kunstprojekte und nicht zuletzt die Begegnung mit dem Hausmeister Hubert. Die Chemie zwischen dem brummigen Kauz und der Reinigungskraft stimmt sofort. Vielleicht liegt es an seinem Elvis-Hüftschwung\, den er heimlich im Büro übt?\nBegeistert lässt sich Maria aus dem Alltagstrott ihrer langjährigen Ehe holen. Sie entdeckt ihre eigene kreative Kraft und die Sehnsucht nach Neuem\, die viel zu lange keinen Ausdruck gefunden haben. Zwischen ihr und Hubert entwickelt sich eine tiefe Bindung\, während ihre Lebensfreude wiedererwacht. Wird Maria den Mut aufbringen\, noch einmal ganz von vorne zu beginnen? \nMARIA TRÄUMT – ODER: DIE KUNST DES NEUANFANGS ist eine berührende und inspirierende\, französische Feelgood-Komödie über Sehnsüchte\, geheime Leidenschaften und neue Anfänge. \n
URL:https://www.herzog-magazin.de/event/maria-traeumt-oder-die-kunst-des-neuanfangs/
LOCATION:Kulturbahnhof (KuBa) Jülich\, Bahnhofsstraße 13\, Jülich\, NRW\, 52428\, Deutschland
GEO:50.91828;6.36768
X-APPLE-STRUCTURED-LOCATION;VALUE=URI;X-ADDRESS=Kulturbahnhof (KuBa) Jülich Bahnhofsstraße 13 Jülich NRW 52428 Deutschland;X-APPLE-RADIUS=500;X-TITLE=Bahnhofsstraße 13:geo:6.36768,50.91828
CATEGORIES:Kino
ATTACH;FMTTYPE=image/jpeg:https://www.herzog-magazin.de/wp-content/uploads/2023/02/maxresdefault-1.jpg
ORGANIZER;CN="KuBa%20J%C3%BClich":MAILTO:info@kuba-juelich.de
END:VEVENT
END:VCALENDAR