    BEGIN:VCALENDAR
VERSION:2.0
PRODID:-//HERZOG Kultur- &amp; Stadtmagazin - ECPv4.9.2//NONSGML v1.0//EN
CALSCALE:GREGORIAN
METHOD:PUBLISH
X-WR-CALNAME:HERZOG Kultur- &amp; Stadtmagazin
X-ORIGINAL-URL:https://www.herzog-magazin.de
X-WR-CALDESC:Veranstaltungen im HERZOG Kultur- &amp; Stadtmagazin
BEGIN:VEVENT
DTSTART;TZID=Europe/Berlin:20191019T120000
DTEND;TZID=Europe/Berlin:20191019T120000
DTSTAMP:20260424T233412
CREATED:20190911T121854Z
LAST-MODIFIED:20190911T121939Z
UID:28943-1571486400-1571486400@www.herzog-magazin.de
SUMMARY:Matinee zur Marktzeit: Flöten- und Oboenmusik
DESCRIPTION:Die Matinee zur Marktzeit in der Propsteikirche findet am Samstag\, 19. Oktober\, statt. Zur Oktobermatinee konnte eine außergewöhnliche Künstlerin gewonnen werden\, nämlich die Block- und Traversflötistin sowie Oboistin Charlotte Schmidt-Berger aus Würzburg. Am 19. Oktober präsentiert sie ein barockes Programm von G. F. Händel und G. Ph. Telemann (Blockflöte) bzw. J. L. Krebs ( Oboe). Beginn ist – wie immer – um 12:05 Uhr.  \nCharlotte Schmidt-Berger studierte Blockflöte\, Traversflöte und historische Oboen an den Musikhochschulen Köln\, Linz an der Donau und Würzburg unter anderem bei Günther Höller\, Dorothee Oberlinger\, Carin van Heerden und Michael Niesemann. In dieser Zeit wurde sie als Stipendiatin von der Konrad-Adenauer-Stiftung gefördert. Zusätzlich absolvierte sie einen Weiterbildungsstudiengang im Bereich Kulturmanagement am KMM Hamburg.  \nCharlotte Schmidt-Berger ist mehrfache erste Preisträgerin nationaler und internationaler Wettbewerbe und wurde in diesem Rahmen mit vielfältigen Förderpreisen und Stipendien ausgezeichnet. Livemitschnitte\, Einspielungen und Interviews zu ihrer Arbeit wurden vom WDR und vom Bayrischen Rundfunk gesendet. Letzterer hat ihre erste Solo-CD eingespielt\, die 2012 unter dem Titel „siebenhundert“ bei dem Label guma records erschienen ist. Ihre solistische Arbeit mit ihren Ensembles wird durch eine rege Konzerttätigkeit als Mitglied in verschiedenen renommierten Barockorchestern wie dem Neumeyer Consort\, der Hofkapelle München\, dem Mainbarockorchester Frankfurt\, Handel’s Company und der Lautten Compagney Berlin ergänzt. Engagements als Solistin und Dozentin führten sie in viele europäische Länder und nach Südafrika. \nNeben ihrer künstlerischen Arbeit ist Charlotte Schmidt-Berger regelmäßig als Organisatorin von eigenen Projekten und Konzertreihen tätig. Bis Anfang 2016 lebte sie in Südafrika\, wo sie als eine der wenigen Experten in ihrem Fachgebiet an der Entwicklung eines neuen Schwerpunkts für Alte Musik mit einem umfangreichen Aus- und Weiterbildungsprogramm maßgeblich beteiligt war. Zusätzlich unterrichtet sie an der Grundschule Schwanfeld sowie im Würzburger Landkreis und lebt mit ihrer Familie in Würzburg. \n
URL:https://www.herzog-magazin.de/event/matinee-zur-marktzeit-mit-floeten-und-oboenmusik/
LOCATION:Propsteipfarrkirche St.Mariä Himmelfahrt\, Stiftsherrenstraße 15\, Jülich\, NRW\, 52428\, Deutschland
GEO:50.9214998;6.3593009
X-APPLE-STRUCTURED-LOCATION;VALUE=URI;X-ADDRESS=Propsteipfarrkirche St.Mariä Himmelfahrt Stiftsherrenstraße 15 Jülich NRW 52428 Deutschland;X-APPLE-RADIUS=500;X-TITLE=Stiftsherrenstraße 15:geo:6.3593009,50.9214998
CATEGORIES:Musik,Musik & Konzerte
ATTACH;FMTTYPE=image/jpeg:https://www.herzog-magazin.de/wp-content/uploads/2019/09/Charlotte-Schmidt-Berger-Foto-Katharina-von-der-Kall-Netz.jpg
ORGANIZER;CN="Kath.%20Pfarrei%20Heilig%20Geist%20J%C3%BClich":MAILTO:pfarramt@heilig-geist-juelich.de
END:VEVENT
END:VCALENDAR