    BEGIN:VCALENDAR
VERSION:2.0
PRODID:-//HERZOG Kultur- &amp; Stadtmagazin - ECPv4.9.2//NONSGML v1.0//EN
CALSCALE:GREGORIAN
METHOD:PUBLISH
X-WR-CALNAME:HERZOG Kultur- &amp; Stadtmagazin
X-ORIGINAL-URL:https://www.herzog-magazin.de
X-WR-CALDESC:Veranstaltungen im HERZOG Kultur- &amp; Stadtmagazin
BEGIN:VEVENT
DTSTART;TZID=Europe/Berlin:20200820T200000
DTEND;TZID=Europe/Berlin:20200820T200000
DTSTAMP:20260421T041303
CREATED:20200117T165835Z
LAST-MODIFIED:20210809T130834Z
UID:33428-1597953600-1597953600@www.herzog-magazin.de
SUMMARY:Verschoben: Max Giesinger auf Burg Nideggen
DESCRIPTION:Bedingt durch die Corona-Krise wird die „Bühne unter Sternen“ ein weiteres Mal auf das nächste Jahr verschoben. Der deutsche Sängers und Songschreiber Max Giesinger sollte am 21. August kommen. Stattdessen gastiert er zur Konzertreihe „Bühne unter Sternen“ am Samstag\, 20. August 2022\, 20 Uhr\, auf Burg Nideggen. Schirmherr der Veranstaltungsreihe der Kulturinitiative im Kreis Düren e.V. ist Landrat Wolfgang Spelthahn. \nRückblick: Max Giesinger hatte bereits eine beachtliche Menge selbstgewählter\, klassischer Musiker-Lehrjahre absolviert\, als im Mai 2014 sein Debütalbum „Laufen lernen“ erschien. Da waren Bands unterschiedlicher musikalischer Gewichtungen in seiner Jugendzeit\, mehrere Dutzend Auftritte pro Jahr neben der Schule\, das Unterwegssein als Straßenmusiker in Australien und Neuseeland und immer wieder millionenfach geklickte\, selbstgestaltete und eigenhändig hochgeladene Song-Clips bei YouTube. 2011 nahm er die Zuschauer der TV-Castingshow „The Voice Of Germany“ auf die Reise zu seinen Gefühlen und Gedanken mit. Aber trotz flächendeckender Bekanntheit blieb er anschließend bewusst unabhängig. \nSein Einstandswerk wurde über eine Crowdfunding-Kampagne finanziert und hielt locker\, was seine TV-Präsenz verspochen hatte: gefühlvolle Songs mit Refrains\, die sich zu packenden Hymnen auftürmen. Mehr noch\, „Laufen lernen“ wurde zur selbsterfüllenden Prophezeiung. Zwei Jahre später lief Max Giesinger nicht mehr\, er sprintete mit seinem zweiten Album „Der Junge\, der rennt“ dem ganz großen Erfolg entgegen. Und die Pop-Fans hielten freudig die Arme\, Ohren und Herzen offen. Platin\, 200.000 verkaufte Exemplare der Platte\, durfte der Musiker mit dem eindringlichen Gesang auch dank seiner beiden Riesenhits „80 Millionen“ und „Wenn sie tanzt“ verbuchen. \nIm letzten Jahr hieß es dann „Die Reise“. Ein neues Album voller großer\, poetischer Songs\, in denen – wie immer\, wenn sie aus Max Giesingers Feder stammen – die Bewegung Thema ist. Bewegung nach innen\, zu sich selbst\, aber natürlich auch Bewegung nach außen\, zu den Menschen überall im Land. Nach mehreren ausverkauften Konzertreisen kreuz und quer durch die Republik wird sich Max Giesinger warm gesungen und gelaufen haben\, wenn ihn seine Reiseroute zur „Bühne unter Sternen“ lotst. \nSchirmherr Landrat Wolfgang Spelthahn ist bekennender Giesinger-Fan\, wie er sagt: „Ich freue mich sehr\, dass Max Giesinger auf die ‚Bühne unter Sternen‘ kommt. Ich bin ein großer Fan seiner Musik\, er wird unsere Konzertreihe definitiv bereichern\, alleine schon\, weil man bei seinen Auftritten sehen kann\, dass er liebt\, was er tut.“ \nTickets und Infos: Das Konzert findet am 20. August 2022 auf der Burg Nideggen statt. Einlass ist um 18 Uhr\, Beginn um 20 Uhr. Alle bisher verkauften Tickets behalten ihre Gültigkeit. Tickets gibt es ansonsten bei allen Vorverkaufsstellen des Medienhauses Aachen sowie unter eventim.de im Internet. Weitere Infos unter www.buehne-unter-sternen.de und unter www.maxgiesinger.de \n
URL:https://www.herzog-magazin.de/event/max-giesinger-auf-burg-nideggen/2020-08-20/
LOCATION:Burg Nideggen\, Kirchgasse 10\, Nideggen\, NRW\, 52385\, Deutschland
GEO:50.68866;6.47618
X-APPLE-STRUCTURED-LOCATION;VALUE=URI;X-ADDRESS=Burg Nideggen Kirchgasse 10 Nideggen NRW 52385 Deutschland;X-APPLE-RADIUS=500;X-TITLE=Kirchgasse 10:geo:6.47618,50.68866
CATEGORIES:Musik,Musik & Konzerte
ATTACH;FMTTYPE=image/jpeg:https://www.herzog-magazin.de/wp-content/uploads/2020/01/Giesinger-Foto-Christoph-Köstlin-Netz.jpg
ORGANIZER;CN="Kreis%20D%C3%BCren":MAILTO:mail@kreis-dueren.de
END:VEVENT
END:VCALENDAR