    BEGIN:VCALENDAR
VERSION:2.0
PRODID:-//HERZOG Kultur- &amp; Stadtmagazin - ECPv4.9.2//NONSGML v1.0//EN
CALSCALE:GREGORIAN
METHOD:PUBLISH
X-WR-CALNAME:HERZOG Kultur- &amp; Stadtmagazin
X-ORIGINAL-URL:https://www.herzog-magazin.de
X-WR-CALDESC:Veranstaltungen im HERZOG Kultur- &amp; Stadtmagazin
BEGIN:VEVENT
DTSTART;TZID=Europe/Berlin:20260510T110000
DTEND;TZID=Europe/Berlin:20260510T110000
DTSTAMP:20260421T223640
CREATED:20260420T105535Z
LAST-MODIFIED:20260420T105535Z
UID:167454-1778410800-1778410800@www.herzog-magazin.de
SUMMARY:Messe für den Friedensdienst
DESCRIPTION:In der heiligen Messe am Sonntag\, 10. Mai\, um 11 Uhr in der Propsteikirche Jülich werden junge Menschen von der katholischen Friedensbewegung pax christi im Bistum Aachen für einen zivilen Friedensdienst in verschiedene Länder ausgesandt. \nEinsatzorte sind z.B. die Gedenkstätte Auschwitz\, die internationale Begegnungsstätte Kreisau\, ein Flüchtlingslager auf dem Balkan\, aber auch Orte in Südamerika und Afrika. \n
URL:https://www.herzog-magazin.de/event/messe-fuer-den-friedensdienst/
LOCATION:Propsteipfarrkirche St.Mariä Himmelfahrt\, Stiftsherrenstraße 15\, Jülich\, NRW\, 52428\, Deutschland
GEO:50.9214998;6.3593009
X-APPLE-STRUCTURED-LOCATION;VALUE=URI;X-ADDRESS=Propsteipfarrkirche St.Mariä Himmelfahrt Stiftsherrenstraße 15 Jülich NRW 52428 Deutschland;X-APPLE-RADIUS=500;X-TITLE=Stiftsherrenstraße 15:geo:6.3593009,50.9214998
CATEGORIES:Rat & Hilfe,Religion
ATTACH;FMTTYPE=image/jpeg:https://www.herzog-magazin.de/wp-content/uploads/2026/03/PfarrkircheIMG_9327.jpg
ORGANIZER;CN="Hl.%20Maria%20Magdalena%20Aldenhoven%2FJ%C3%BClich":MAILTO:pfarramt@heilig-geist-juelich.de
END:VEVENT
END:VCALENDAR