    BEGIN:VCALENDAR
VERSION:2.0
PRODID:-//HERZOG Kultur- &amp; Stadtmagazin - ECPv4.9.2//NONSGML v1.0//EN
CALSCALE:GREGORIAN
METHOD:PUBLISH
X-WR-CALNAME:HERZOG Kultur- &amp; Stadtmagazin
X-ORIGINAL-URL:https://www.herzog-magazin.de
X-WR-CALDESC:Veranstaltungen im HERZOG Kultur- &amp; Stadtmagazin
BEGIN:VEVENT
DTSTART;TZID=Europe/Berlin:20191108T191100
DTEND;TZID=Europe/Berlin:20191108T191100
DTSTAMP:20260420T174809
CREATED:20191014T160333Z
LAST-MODIFIED:20191014T160333Z
UID:30201-1573240260-1573240260@www.herzog-magazin.de
SUMMARY:Metzenhuuse Rut-Wiess e.V.: 3. Jahrgedächtnis und Proklamation
DESCRIPTION:„Et weed vürnähm un nobel“ heißt es beim Metzenhuuse Rut-Wiess e.V. am Freitag\, 8. November. Dann ist 3. Jahrgedächtnis und Proklamation der ??? 2019-2020 in der Bürgerhalle am Lindenplatz. Die Veranstaltung beginnt um 20:11 Uhr. Der Eintritt ist frei. \n
URL:https://www.herzog-magazin.de/event/metzenhuuse-rut-wiess-e-v-3-jahrgedaechtnis-und-proklamation/
LOCATION:Bürgerhalle Merzenhausen\, Prämienstraße 43\, Jülich\, 52428
CATEGORIES:Brauchtum
ATTACH;FMTTYPE=image/jpeg:https://www.herzog-magazin.de/wp-content/uploads/2019/10/2019-Merzenhausen-Ruut-Wiess-Netz.jpg
END:VEVENT
END:VCALENDAR