    BEGIN:VCALENDAR
VERSION:2.0
PRODID:-//HERZOG Kultur- &amp; Stadtmagazin - ECPv4.9.2//NONSGML v1.0//EN
CALSCALE:GREGORIAN
METHOD:PUBLISH
X-WR-CALNAME:HERZOG Kultur- &amp; Stadtmagazin
X-ORIGINAL-URL:https://www.herzog-magazin.de
X-WR-CALDESC:Veranstaltungen im HERZOG Kultur- &amp; Stadtmagazin
BEGIN:VEVENT
DTSTART;TZID=Europe/Berlin:20190923T190000
DTEND;TZID=Europe/Berlin:20190923T190000
DTSTAMP:20260423T173655
CREATED:20190922T114224Z
LAST-MODIFIED:20190922T114224Z
UID:29486-1569265200-1569265200@www.herzog-magazin.de
SUMMARY:MGV der Jülicher Gesellschaft
DESCRIPTION:Zur Mitgliederversammlung lädt die Jülicher Gesellschaft gegen das Vergessen und für die Toleranz e.V. am Montag\, 23. September\, 19:00 Uhr in das Dietrich-Bonhoeffer-Haus Jülich\, Düsseldorfer Straße 30\, ein. Auf der Tagesordnung steht der Tätigkeitsbericht 2018/19 mit einem Lagebericht zu den Themen Fremdenfeindlichkeit\, Antisemitismus\, Zivilcourage und Toleranz. Zudem sollen Nachwahlen zum Vorstand getätigt werden. Auch wird über Veranstaltungen zum 9. November gesprochen. \n
URL:https://www.herzog-magazin.de/event/mgv-der-juelicher-gesellschaft/
LOCATION:Dietrich-Bonhoeffer-Haus\, Düsseldorfer Straße 30\, Jülich\, NRW\, 52428\, Deutschland
GEO:50.924319;6.3564769
X-APPLE-STRUCTURED-LOCATION;VALUE=URI;X-ADDRESS=Dietrich-Bonhoeffer-Haus Düsseldorfer Straße 30 Jülich NRW 52428 Deutschland;X-APPLE-RADIUS=500;X-TITLE=Düsseldorfer Straße 30:geo:6.3564769,50.924319
CATEGORIES:Geschichte,Mitgliederversammlung,Politik,Versammlungen
ATTACH;FMTTYPE=image/jpeg:https://www.herzog-magazin.de/wp-content/uploads/2017/11/Herzog_Juelicher-Gesellschaft.jpg
ORGANIZER;CN="J%C3%BClicher%20Gesellschaft%20gegen%20das%20Vergessen%20und%20f%C3%BCr%20die%20Toleranz%20e.V.":MAILTO:info@juelicher-gesellschaft.de
END:VEVENT
END:VCALENDAR