    BEGIN:VCALENDAR
VERSION:2.0
PRODID:-//HERZOG Kultur- &amp; Stadtmagazin - ECPv4.9.2//NONSGML v1.0//EN
CALSCALE:GREGORIAN
METHOD:PUBLISH
X-WR-CALNAME:HERZOG Kultur- &amp; Stadtmagazin
X-ORIGINAL-URL:https://www.herzog-magazin.de
X-WR-CALDESC:Veranstaltungen im HERZOG Kultur- &amp; Stadtmagazin
BEGIN:VEVENT
DTSTART;TZID=Europe/Berlin:20230918T170000
DTEND;TZID=Europe/Berlin:20230918T190000
DTSTAMP:20260423T012136
CREATED:20230818T102919Z
LAST-MODIFIED:20230818T103747Z
UID:112669-1695056400-1695063600@www.herzog-magazin.de
SUMMARY:Miraculous: Ladybug & Cat Noir - Der Film
DESCRIPTION:Abenteuer\, Animation | Frankreich 2022 | FSK: o.A. | 99 Min. | 17:00 Uhr | 4.00 Euro | Regie: Jeremy Zag \nDie tollpatschige Teenagerin Marinette schlägt sich durch den Schulalltag in Paris – Höhepunkte ihres Tages sind die Momente\, in denen sie ihren großen Schwarm Adrien sieht. Als Marinette eines Tages ein „Miraculous“ findet\, verwandelt sie sich auf wundersame Weise in die Superheldin Ladybug. Die neu-erlangten Superkräfte muss Ladybug erstmal unter Kontrolle bringen\, doch Hilfe kommt von dem charismatischen Superhelden Cat Noir. Was Marinette nicht ahnt: Hinter Cat Noirs Maske verbirgt sich Adrien! Als ein fieser Mega-Schurke mit dunkler Magie Paris bedroht\, müssen sich Ladybug und Cat Noir verbünden. Um die Stadt zu retten\, begeben sich die beiden auf eine gewagte Mission und ein unvergessliches Abenteuer von den Katakomben der Stadt bis hinauf zu den atemberaubenden Höhen des Eiffelturms beginnt. \n
URL:https://www.herzog-magazin.de/event/miraculous-ladybug-cat-noir-der-film/2023-09-18/
LOCATION:Kulturbahnhof (KuBa) Jülich\, Bahnhofsstraße 13\, Jülich\, NRW\, 52428\, Deutschland
GEO:50.91828;6.36768
X-APPLE-STRUCTURED-LOCATION;VALUE=URI;X-ADDRESS=Kulturbahnhof (KuBa) Jülich Bahnhofsstraße 13 Jülich NRW 52428 Deutschland;X-APPLE-RADIUS=500;X-TITLE=Bahnhofsstraße 13:geo:6.36768,50.91828
CATEGORIES:Kino
ATTACH;FMTTYPE=image/jpeg:https://www.herzog-magazin.de/wp-content/uploads/2023/08/maxresdefault-8.jpg
ORGANIZER;CN="KuBa%20J%C3%BClich":MAILTO:info@kuba-juelich.de
END:VEVENT
END:VCALENDAR