    BEGIN:VCALENDAR
VERSION:2.0
PRODID:-//HERZOG Kultur- &amp; Stadtmagazin - ECPv4.9.2//NONSGML v1.0//EN
CALSCALE:GREGORIAN
METHOD:PUBLISH
X-WR-CALNAME:HERZOG Kultur- &amp; Stadtmagazin
X-ORIGINAL-URL:https://www.herzog-magazin.de
X-WR-CALDESC:Veranstaltungen im HERZOG Kultur- &amp; Stadtmagazin
BEGIN:VEVENT
DTSTART;TZID=Europe/Berlin:20251202T170000
DTEND;TZID=Europe/Berlin:20251202T170000
DTSTAMP:20260425T144349
CREATED:20251113T103207Z
LAST-MODIFIED:20251113T103426Z
UID:157494-1764694800-1764694800@www.herzog-magazin.de
SUMMARY:Mission: Mäusejagd
DESCRIPTION:Animation\, Kinder\, Familie | Norwegen 2025 | FSK: ab 0 | 80 Min. | 17:00 Uhr | Regie: Henrik Martin Dahlsbakken | Darsteller: Lina Larissa Strahl\, Vivid Falk Berg\, Vegard Strand Eide \nWie jedes Jahr freuen sich die neugierige Maus Lea und ihre Familie auf ein gemütliches Weihnachtsfest. Doch ausgerechnet kurz vor Heiligabend wird die Ruhe gestört\, als sich unerwartet Menschen in ihrem Haus niederlassen: Mikkel und seine Familie haben das seit Langem leer stehende Anwesen geerbt\, in dem sie nun gemeinsam die Feiertage verbringen wollen. Fest entschlossen\, den Eindringlingen einen Strich durch die Rechnung zu machen\, fahren die kleinen Nager sämtliche Geschütze auf\, um sie davonzujagen – während sich zwischen Lea und Mikkel inmitten des Chaos eine echte Freundschaft entwickelt. \n
URL:https://www.herzog-magazin.de/event/mission-maeusejagd/2025-12-02/
LOCATION:Kulturbahnhof (KuBa) Jülich\, Bahnhofsstraße 13\, Jülich\, NRW\, 52428\, Deutschland
GEO:50.91828;6.36768
X-APPLE-STRUCTURED-LOCATION;VALUE=URI;X-ADDRESS=Kulturbahnhof (KuBa) Jülich Bahnhofsstraße 13 Jülich NRW 52428 Deutschland;X-APPLE-RADIUS=500;X-TITLE=Bahnhofsstraße 13:geo:6.36768,50.91828
CATEGORIES:Kino
ATTACH;FMTTYPE=image/jpeg:https://www.herzog-magazin.de/wp-content/uploads/2025/11/MissionMaeusejagd_300dpi_01_web.jpg
ORGANIZER;CN="Kulturbahnhof%20J%C3%BClich":MAILTO:info@kuba-juelich.de
END:VEVENT
END:VCALENDAR