    BEGIN:VCALENDAR
VERSION:2.0
PRODID:-//HERZOG Kultur- &amp; Stadtmagazin - ECPv4.9.2//NONSGML v1.0//EN
CALSCALE:GREGORIAN
METHOD:PUBLISH
X-WR-CALNAME:HERZOG Kultur- &amp; Stadtmagazin
X-ORIGINAL-URL:https://www.herzog-magazin.de
X-WR-CALDESC:Veranstaltungen im HERZOG Kultur- &amp; Stadtmagazin
BEGIN:VEVENT
DTSTART;TZID=Europe/Berlin:20221107T200000
DTEND;TZID=Europe/Berlin:20221107T220000
DTSTAMP:20260426T034050
CREATED:20221019T145151Z
LAST-MODIFIED:20221103T154701Z
UID:91270-1667851200-1667858400@www.herzog-magazin.de
SUMMARY:Mittagsstunde
DESCRIPTION:Drama | Deutschland 2022 | FSK: ab 12 | 93 Min. | 6.50 Euro / 6.00 Euro erm. | Regie: Lars Jessen | Darsteller: Charly Hübner\, Peter Franke\, Hildegard Schmahl\, Rainer Bock \nIngwer\, 47 Jahre alt und Dozent an der Kieler Uni\, fragt sich schon länger\, wo eigentlich sein Platz im Leben sein könnte. Als seine „Olen“ nicht mehr allein klarkommen\, beschließt er\, dem Leben in der\nStadt den Rücken zuzukehren\, um in seinem Heimatdorf Brinkebüll im nordfriesischen Nirgendwo ein Sabbatical zu verbringen. Doch den Ort seiner Kindheit erkennt er kaum wieder: auf den Straßen kaum Menschen\, denn das Zusammenleben ﬁndet woanders statt\, keine Dorfschule\, kein Tante-Emma-Laden\, keine alte Kastanie auf dem Dorfplatz\, keine Störche\, auf den Feldern wächst nur noch Mais\, aus gewundenen Landstraßen wurden begradigte Schnellstraßen. Als wäre eine ganze Welt versunken. Wann hat dieser Niedergang begonnen? In den 1970ern\, als nach der Flurbereinigung erst die Knicks und dann die Vögel verschwanden? Als die großen Höfe wuchsen und die kleinen\nstarben? Als Ingwer zum Studium nach Kiel ging und seine Eltern mit dem Gasthof sitzen ließ? Wann verschwand die Mittagsruhe mit all ihren Herrlichkeiten und Heimlichkeiten? – Sönke Feddersen\, de Ole\, hält immer noch stur hinter seinem Tresen im alten Dorfkrug die Stellung\, während Ella\, seine Frau\, mehr und mehr ihren Verstand verliert. Beide lassen Ingwer spüren\, dass er sich schon viel zu\nlange nicht um sie gekümmert hat. Und nur in kleinen Schritten erkennt er\, dass er noch längst nicht alle Geheimnisse entblättert hat. \n
URL:https://www.herzog-magazin.de/event/mittagsstunde/
LOCATION:Kulturbahnhof (KuBa) Jülich\, Bahnhofsstraße 13\, Jülich\, NRW\, 52428\, Deutschland
GEO:50.91828;6.36768
X-APPLE-STRUCTURED-LOCATION;VALUE=URI;X-ADDRESS=Kulturbahnhof (KuBa) Jülich Bahnhofsstraße 13 Jülich NRW 52428 Deutschland;X-APPLE-RADIUS=500;X-TITLE=Bahnhofsstraße 13:geo:6.36768,50.91828
CATEGORIES:Kino
ATTACH;FMTTYPE=image/jpeg:https://www.herzog-magazin.de/wp-content/uploads/2022/10/maxresdefault-4.jpg
ORGANIZER;CN="KuBa%20J%C3%BClich":MAILTO:info@kuba-juelich.de
END:VEVENT
END:VCALENDAR