    BEGIN:VCALENDAR
VERSION:2.0
PRODID:-//HERZOG Kultur- &amp; Stadtmagazin - ECPv4.9.2//NONSGML v1.0//EN
CALSCALE:GREGORIAN
METHOD:PUBLISH
X-WR-CALNAME:HERZOG Kultur- &amp; Stadtmagazin
X-ORIGINAL-URL:https://www.herzog-magazin.de
X-WR-CALDESC:Veranstaltungen im HERZOG Kultur- &amp; Stadtmagazin
BEGIN:VEVENT
DTSTART;TZID=Europe/Berlin:20210331T183000
DTEND;TZID=Europe/Berlin:20210331T183000
DTSTAMP:20260423T204516
CREATED:20210223T125301Z
LAST-MODIFIED:20210223T125301Z
UID:53517-1617215400-1617215400@www.herzog-magazin.de
SUMMARY:Mittwochsclub: Vielfältiges Bild jüdischen Lebens
DESCRIPTION:Für den Beginn jüdischen Lebens im Rheinland wird häufig auf ein Dekret von 321 verwiesen\, die im Codex Theodosianus\, dem ersten römischen Gesetzbuch\, überliefert ist. Darin wird den Juden gestattet\, als Dekurionen am Kölner Stadtrat mitzuwirken. Danach allerdings schweigen die Quellen wieder für Jahrhunderte. So ist für den Beginn des 4. Jahrhunderts die Existenz einer jüdischen Gemeinde in Köln gesichert.  \nIm Mittwochsclub von Jülicher Geschichtsverein und Museum Zitadelle Jülich ist Dr. Uri Kaufmann am 31. März um 18.30 Uhr zum Online-Vortrag über das Thema „1700 Jahre jüdisches Leben im Rheinland“ eingeladen. Er ist Teil des Veranstaltungsprogramms „1700 Jahre jüdisches Leben im Rheinland“ und der Vortragsreihe „Marksteine deutscher Geschichte aus rheinischer Perspektive“. Der Eintritt ist frei. \nDie jüdische Geschichte bietet ein vielfältiges Bild: Von Gewürzhändlern im Mittelalter zu ländlichen Hausierern und Viehhändler im Rheinland der Frühen Neuzeit soll ein großer Bogen bis zum Kampf um Gleichberechtigung gespannt werden. Die deutschen Juden waren Pioniere in der Auseinandersetzung mit der Moderne und Vorbild für andere jüdische Landsmannschaften. Sie waren Mitgestalter der deutschen Kultur im 19. und 20. Jahrhundert und sahen sich als „deutsche Staatsbürger jüdischen Glaubens“ an: Jüdische Geschichte darf nicht nur auf Verfolgungen reduziert werden! \nDer Referent Dr. Uri Kaufmann\, wurde in der Schweiz geboren\, Studium an der Hebräischen Universität in Jerusalem 1977–1983. Promotion in Zürich 1987\, wissenschaftlicher Mitarbeiter für jüdische Geschichte an der Hochschule für Jüdische Studien in Heidelberg (1988–1997)\, Konzeptentwickler für das Jüdische Museum Berlin und das Generallandesarchiv Karlsruhe. Seit 2011 Leiter der Alten Synagoge Essen – Haus jüdischer Kultur. \nDer Vortrag findet aller Voraussicht nach nur virtuell statt. Entsprechende Angaben finden sich auf der Internetseite des Jülicher Geschichtsvereins: www.juelich-gv.de. \n
URL:https://www.herzog-magazin.de/event/mittwochsclub-vielfaeltiges-bild-juedischen-lebens/
LOCATION:NRW\, Deutschland
CATEGORIES:Geschichte,kulturelle Bildung,Vortrag
ATTACH;FMTTYPE=image/jpeg:https://www.herzog-magazin.de/wp-content/uploads/2021/02/Jülicher-Synagoge-k.jpg
END:VEVENT
END:VCALENDAR