    BEGIN:VCALENDAR
VERSION:2.0
PRODID:-//HERZOG Kultur- &amp; Stadtmagazin - ECPv4.9.2//NONSGML v1.0//EN
CALSCALE:GREGORIAN
METHOD:PUBLISH
X-WR-CALNAME:HERZOG Kultur- &amp; Stadtmagazin
X-ORIGINAL-URL:https://www.herzog-magazin.de
X-WR-CALDESC:Veranstaltungen im HERZOG Kultur- &amp; Stadtmagazin
BEGIN:VEVENT
DTSTART;TZID=Europe/Berlin:20230917T120000
DTEND;TZID=Europe/Berlin:20230917T180000
DTSTAMP:20260423T135521
CREATED:20230829T103703Z
LAST-MODIFIED:20230829T103703Z
UID:113229-1694952000-1694973600@www.herzog-magazin.de
SUMMARY:Mobilitätswoche und Baustellenfest
DESCRIPTION:Mobilität im Fokus: Kultur und Verkehr haben eine Gemeinsamkeit – beide brauchen den öffentlichen Raum. Die Europäische Mobilitätswoche (EMW) steht daher unter dem Motto „Hallo Kultur!“. Der öffentliche (Park-)Raum wird daher am Sonntag\, 17. September\, ab 12 Uhr zur Bühne für das abwechslungsreiche Programm des Aktionstages in Jülich\, der auch Mobilitätskonzepte der Zukunft vorstellen soll. \nEröffnet wird die WMW-Mottowoche in Jülich bereits am Samstag\, 16. September\, 14 Uhr\, mit dem Kindertheaterstück „Spex – Ein Planet muss in die Werkstatt“ auf dem Schlossplatz. Das Angebot ist ein Kooperationsprojekt des städtischen Kulturbüros mit der Stabsstelle Nachhaltigkeit\, Mobilität und Klimaschutz (NaMok). Der Eintritt ist frei. \nDer Aktionstag am 17. September soll ebenfalls Kultur und nachhaltige Mobilität miteinander verknüpfen. „Bespielt“ werden neben dem Schlossplatz die angrenzende Kurfürstenstraße (Ab Ecke Römerstraße) und von dort ausgehend die Kölnstraße bis Ecke Schlossstraße sowie die Kleine Rurstraße. Es gibt Livemusik\, Spielstationen\, einen Kinderflohmarkt sowie Sitz- und Chill-Gelegenheiten und kulinarische Angebote in umfunktionierten Parktaschen\, die einen Tag lang nicht dem Individualverkehr zur Verfügung stehen. In der sogenannten „Speaking Corner“ können Bürgerinnen und Bürger und das NaMok-Team miteinander ins Gespräch kommen. Wer noch eine Idee für die alternative Nutzung einer Parktasche hat\, kann sich gerne per E-Mail an die Organisatoren wenden (Namok@juelich.de). \nDas zuständige Team der Stabstelle Nachhaltigkeit\, Mobilität\, Klimaschutz (NaMoK) wird vor Ort sein und am Infomobil für Gespräche zur Verfügung stehen. Zudem wird ab 12 Uhr ein gebührenfreier Kinderflohmarkt in der Kleinen Rurstraße ausgerichtet. Interessierte können sich unter Kinderflohmarkt@juelich.de anmelden.  \nParallel zum EMW-Aktionstag findet rund um Markt- und Kirchplatz von 12 bis 18 Uhr das von der Werbegemeinschaft Jülich und dem Citymanagement gemeinsam organisierte Baustellenfest mit verkaufsoffenem Sonntag von 13 bis 18 Uhr in der gesamten Innenstadt statt. Unterstützt wird die Aktion durch helfende Hände des Jugendparlaments in Form eines Einkaufsservices. Das Fest selbst wartet mit einem bunten Marktgeschehen in der Kölnstraße zwischen Marktplatz und Poststraße sowie in der Marktstraße auf. \nRund um die Baustelle am Marktplatz dürfen sich alle Besucherinnen und Besucher auf Informationen zu deren Umbau und Neugestaltung sowie auf bunte Aktionen für die ganze Familie freuen. Angefangen von Baustellenführungen\, die das Tiefbauamt der Stadt Jülich gemeinsam mit der bauausführenden Firma Florack jeweils um 13\, 15 und 17 Uhr ab Citymanagement-Pavillon anbietet\, über eine Baggerführerschein-Aktion für Kinder und einen kleinen Sand- und Spielstrand bis hin zu einer archäologischen Führung\, bei der alle Interessierten über die aktuellen Funde aus römischer Zeit informiert werden.  \nAm Citymanagement-Stand besteht zudem die Möglichkeit\, sich über das sogenannte Integrierte Handlungskonzept (InHK) für die Innenstadt zu informieren. Wie bereits bei vergangenen Veranstaltungen wird es außerdem die Fragebogenaktion „Benoten Sie Jülich!“ mit angeschlossenem Gewinnspiel geben. Bei diesem können alle Teilnehmenden ihre Meinungen und Ideen zur weiteren Entwicklung der Jülicher Innenstadt abgeben und attraktive Jülicher Stadtprodukte gewinnen. \nFür alle Besucherinnen und Besucher des Baustellenfestes\, die mit dem Auto anreisen\, steht der Parkplatz Ellbachstraße als zusätzliche innenstadtnahe Fläche mit über 200 Stellplätzen zur Verfügung. Hier ist kostenlos ganztägiges Parken möglich. Weitere Informationen unter www.citymanagement-juelich.de. \n
URL:https://www.herzog-magazin.de/event/mobilitaetswoche-und-baustellenfest/
LOCATION:Innenstadt Jülich\, Marktplatz\, Jülich\, NRW\, 52428\, Deutschland
GEO:50.9218687;6.3578988
X-APPLE-STRUCTURED-LOCATION;VALUE=URI;X-ADDRESS=Innenstadt Jülich Marktplatz Jülich NRW 52428 Deutschland;X-APPLE-RADIUS=500;X-TITLE=Marktplatz:geo:6.3578988,50.9218687
CATEGORIES:Auto / Motorrad / Fahrzeuge,Essen & Trinken,Festival & Markt,für Familien,Informationsveranstaltung,Musik,Musik & Konzerte,Verkehr
ATTACH;FMTTYPE=image/jpeg:https://www.herzog-magazin.de/wp-content/uploads/2023/08/Aktionstag_EMW_Baustellenfest_FotoStadtJuelich_GisaStein.jpg
ORGANIZER;CN="Stadt%20J%C3%BClich":MAILTO:info@juelich.de
END:VEVENT
END:VCALENDAR