    BEGIN:VCALENDAR
VERSION:2.0
PRODID:-//HERZOG Kultur- &amp; Stadtmagazin - ECPv4.9.2//NONSGML v1.0//EN
CALSCALE:GREGORIAN
METHOD:PUBLISH
X-WR-CALNAME:HERZOG Kultur- &amp; Stadtmagazin
X-ORIGINAL-URL:https://www.herzog-magazin.de
X-WR-CALDESC:Veranstaltungen im HERZOG Kultur- &amp; Stadtmagazin
BEGIN:VEVENT
DTSTART;TZID=Europe/Berlin:20190922T110000
DTEND;TZID=Europe/Berlin:20190922T160000
DTSTAMP:20260424T050607
CREATED:20190919T102318Z
LAST-MODIFIED:20190919T102318Z
UID:29329-1569150000-1569168000@www.herzog-magazin.de
SUMMARY:Modellspielzeugmarkt in den Kurpark Terrassen Aachen
DESCRIPTION:Die Welt der Adler-Modellspielzeuge ist am Sonntag 22. September\, zu Gast in den Kurpark Terrassen Aachen\, Dammstraße 40. Von 11:00 bis 16:00 Uhr öffnen sich hier die Türen für die interessierten Besucher aus nah und fern. \nModellspielzeug fasziniert Liebhaber und Sammler schon seit Generationen. Bereits seit über 35 Jahren veranstalten die Adler-Märkte ihre Modellspielzeugmärkte zum beliebten Freizeitvergnügen unter anderem auch in den Kurpark Terrassen in Aachen. Hier haben Sammler\, Modellspielzeugliebhaber oder Neueinsteiger eine Gelegenheit\, mit Gleichgesinnten Tipps und Know-how auszutauschen sowie über die zu erstehenden Sammlerstücke mit den Händlern zu verhandeln.  \nSogenanntes altes Spielzeug erfreut sich doch wieder steigender Beliebtheit\, begeistert Kinder und Erwachsene. Diese können gleichermaßen in die Spielzeugwelt der Eltern oder Großeltern eintauchen\, um Seltenes oder Kurioses zu entdecken. Es entpuppt sich dabei oft als ein Spaß für die ganze Familie. Nicht selten führen Kinder die Sammel- und Spielleidenschaft der Eltern weiter. Nicht nur deswegen sind Familien ganz besonders herzlich willkommen. \nHändler bieten gebrauchte und neue Modelleisenbahnen\, Modellautos\, Modellbausätze\, Zubehör\, Elektronikteile\, Ersatzteile\, Literatur und altes Blechspielzeug zum Kauf an. Die Angebotspalette reicht von einfachen Einsteigermodellen über technisch aufwendige bis zu seltenen\, wertvollen Sammlerstücken. Der Einzug der Digitaltechnik im Modelleisenbahnbereich hat inzwischen durch seinen erweiterten Funktionsumfang diese erheblich aufgewertet und auch für die junge Computergeneration spannend gemacht. Mittels elektronischer Steuerungen und Computer lassen sich komplexe Anlagen abwechslungsreich steuern\, ja sogar Sprachansagen und realistische Geräuschkulissen lassen sich realisieren. Heute zischt\, dampft\, pfeift und quietscht es auf der digitalen Modellbahnanlage. \nAuch die Modellautos der Rennwagen von bekannten Weltmeistern\, PKWs\, LKWs\, Busse und diverse Varianten aus Metall oder Kunststoff der namhaften Hersteller aus dem In- und Ausland sind in vielen Baugrößen auf den Märkten im Angebot. In Ergänzung zum stationären Handel und dem Internet bieten Modellspielzeugmärkte den Vorteil\, die Objekte der Begierde in Augenschein zu nehmen\, vor dem Kauf auf Herz und Nieren zu prüfen und auf einer multifunktionellen Testanlage auszuprobieren. Auch den Sammlern und Liebhabern von antiquarischem\, meist mechanischem Spielzeug aus Blech\, alten Gesellschaftsspielen\, Literatur und anderem „aus der guten alten Zeit“ bieten die Märkte ein breites Angebot. \nWer selbst noch altes Spielzeug besitzt\, kann es auf die Modellspielzeugmärkte mitbringen\, um es dort den Händlern anzubieten. Auch ein Tauschen der Waren ist möglich. Der Veranstalter oder die sachkundigen Aussteller helfen gerne weiter. \nDer Eintritt zum Modellspielzeugmarkt beträgt 6 Euro für Erwachsene. Freier Eintritt für Kinder bis einschließlich 14 Jahre in Begleitung eines Erziehungsberechtigten. \n
URL:https://www.herzog-magazin.de/event/modellspielzeugmarkt-in-den-kurpark-terrassen-aachen/
LOCATION:NRW\, Deutschland
CATEGORIES:Festival & Markt,für Familien,für Jugendliche,für Kinder
ATTACH;FMTTYPE=image/jpeg:https://www.herzog-magazin.de/wp-content/uploads/2019/09/Adler-Eisenbahn-Modellspielzeug-Netz.jpg
END:VEVENT
END:VCALENDAR