    BEGIN:VCALENDAR
VERSION:2.0
PRODID:-//HERZOG Kultur- &amp; Stadtmagazin - ECPv4.9.2//NONSGML v1.0//EN
CALSCALE:GREGORIAN
METHOD:PUBLISH
X-WR-CALNAME:HERZOG Kultur- &amp; Stadtmagazin
X-ORIGINAL-URL:https://www.herzog-magazin.de
X-WR-CALDESC:Veranstaltungen im HERZOG Kultur- &amp; Stadtmagazin
BEGIN:VEVENT
DTSTART;TZID=Europe/Berlin:20190929T170000
DTEND;TZID=Europe/Berlin:20190929T170000
DTSTAMP:20260422T124000
CREATED:20190818T130600Z
LAST-MODIFIED:20190818T130600Z
UID:27624-1569776400-1569776400@www.herzog-magazin.de
SUMMARY:Modern Poetry Folk mit Solid Ground
DESCRIPTION:Modern Poetry Folk: Von Irlands Fröhlichkeit\, Poesie und Naturverbundenheit inspirierte Musik bringen „Solid Ground“ mit nach Jülich. Sieben begeisterten Vollblutmusiker und Musikerinnen laden mit Geige\, Akkordeon\, Dudelsack\, Flöten\, Gitarre\, Klavier\, Bass und Schlagzeug sowie einer hellen Frauenstimme ein zur Reise über die Grüne Insel. Ihren ganz eigenen Stil hat das Septett mit ihren  Poesievertonungen irischer Dichter wie W.B. Yeats\, Samuel Beckett\, James Joyce gefunden. Damit heben sie sich von anderen Gruppen ab\, die sich ebenfalls dem Modern Irish Folk verschrieben haben. Zu Gast im Kulturbahnhof Jülich ist die Band am Sonntag\, 29. September\, 17:00 Uhr. Einlass wird ab 16:30 Uhr gewährt.  \nMusikalisch vorgestellt hat sich Solid Ground in Funk und Fernsehen\, erhielt Preise und Auszeichnungen etwa für das Beste Folkalbum des Sender Freies Radio Stuttgart 2010 und war nominiert für den Preis der Deutschen Schallplattenkritik 2014. Seit inzwischen 18 Jahren ist Solid Ground unterwegs auf Kleinkunstbühnen und Festivals durch Europa; als Support Act für Bands wie Grada\, Solas und Irlands Folkikone Mary Black begeisterten sie auch vor großem Publikum. Auf Einladung der deutschen Botschaft in Dublin 2011 und der Yeats Society 2017 spielte Solid Ground  auch in Irland. Jetzt stellt die Formation ein neues Album vor\, das inzwischen siebte mit einer Vielzahl an neuen  irischen Poesievertonungen und eigenen Instrumentalstücken. \n
URL:https://www.herzog-magazin.de/event/modern-poetry-folk-mit-solid-ground/
LOCATION:Kulturbahnhof (KuBa) Jülich\, Bahnhofsstraße 13\, Jülich\, NRW\, 52428\, Deutschland
GEO:50.91828;6.36768
X-APPLE-STRUCTURED-LOCATION;VALUE=URI;X-ADDRESS=Kulturbahnhof (KuBa) Jülich Bahnhofsstraße 13 Jülich NRW 52428 Deutschland;X-APPLE-RADIUS=500;X-TITLE=Bahnhofsstraße 13:geo:6.36768,50.91828
CATEGORIES:Musik,Musik & Konzerte
ATTACH;FMTTYPE=image/jpeg:https://www.herzog-magazin.de/wp-content/uploads/2019/08/Solid-Ground-by-Gerald-Langer-Netz.jpg
ORGANIZER;CN="Kultur%20im%20Bahnhof%20e.V.":MAILTO:info@kuba-juelich.de
END:VEVENT
END:VCALENDAR