    BEGIN:VCALENDAR
VERSION:2.0
PRODID:-//HERZOG Kultur- &amp; Stadtmagazin - ECPv4.9.2//NONSGML v1.0//EN
CALSCALE:GREGORIAN
METHOD:PUBLISH
X-WR-CALNAME:HERZOG Kultur- &amp; Stadtmagazin
X-ORIGINAL-URL:https://www.herzog-magazin.de
X-WR-CALDESC:Veranstaltungen im HERZOG Kultur- &amp; Stadtmagazin
BEGIN:VEVENT
DTSTART;TZID=Europe/Berlin:20191107T190000
DTEND;TZID=Europe/Berlin:20191107T190000
DTSTAMP:20260420T170729
CREATED:20191105T130155Z
LAST-MODIFIED:20191105T130155Z
UID:30747-1573153200-1573153200@www.herzog-magazin.de
SUMMARY:Mundart im Stadtmuseum Düren
DESCRIPTION:Et jeht widder loss: Mundart. Bereits zum 5. Mal lädt das Stadtmuseum Düren zu seinem Mundartabend ein. Ein Dutzend Akteure versuchen am Donnerstag\, 7. November\, ab 19 Uhr wieder\, mit Gedichten und Liedern unsere Muttersprache zu beleben. Dabei wechseln sich besinnliche Texte mit lustigen ab: Da wird erklärt\, was man alles mit einem „Mömmes“ anfangen kann\, was der Unterschied zwischen einer „Märl“ und einer Nachtigall ist und das „Langerwehter Klosterleedche“ wird ebenfalls behandelt. \nDrei Lieder von Franz Peter Kürten erklingen und leiten über zu einem Justizirrtum. Dann erfährt man\, was man alles mit einem „Hötchen“ veranstalten kann\, passend zur näher kommenden Weihnachtszeit wird aus der Sicht einer Krippe erzählt und auch „Dä hellije Mann“ darf nicht fehlen. „En truurige Saach“ wie auch ein Besuch beim Psychiater sowie „E Dörpsverzällche“ und ein komischer Vergleich runden die Vorträge ab. Und dann darf natürlich am Ende nicht der Auftritt der Schweessfööss fehlen\, die\, wie in den vergangenen Jahren\, mit ihren Liedern den Abschluss bilden. \nDer Eintritt ist wie immer frei\, wobei Spenden natürlich gerne angenommen werden. \n
URL:https://www.herzog-magazin.de/event/mundart-im-stadtmuseum-dueren/
LOCATION:Stadtmuseum Düren\, Arnoldsweilerstraße 38\, Düren\, NRW\, 52351\, Deutschland
CATEGORIES:Brauchtum
ATTACH;FMTTYPE=image/jpeg:https://www.herzog-magazin.de/wp-content/uploads/2019/01/Mundart.jpg
ORGANIZER;CN="Stadtmuseum%20D%C3%BCren":MAILTO:info@stadtmuseumdueren.de
END:VEVENT
END:VCALENDAR