    BEGIN:VCALENDAR
VERSION:2.0
PRODID:-//HERZOG Kultur- &amp; Stadtmagazin - ECPv4.9.2//NONSGML v1.0//EN
CALSCALE:GREGORIAN
METHOD:PUBLISH
X-WR-CALNAME:HERZOG Kultur- &amp; Stadtmagazin
X-ORIGINAL-URL:https://www.herzog-magazin.de
X-WR-CALDESC:Veranstaltungen im HERZOG Kultur- &amp; Stadtmagazin
BEGIN:VEVENT
DTSTART;TZID=Europe/Berlin:20231002T110000
DTEND;TZID=Europe/Berlin:20231002T170000
DTSTAMP:20260423T055742
CREATED:20230916T090950Z
LAST-MODIFIED:20230916T090950Z
UID:114588-1696244400-1696266000@www.herzog-magazin.de
SUMMARY:Museum Zitadelle: Kreativ in den Herbstferien
DESCRIPTION:Kreativ werden können Kinder und Jugendliche am Montag\, 2. Oktober\, mit Museumsleiter Marcell Perse in dem Workshop „Auge in Auge mit mir selbst – Selbstporträts als Hinterglasmalerei“. Der kostenlose Workshop für Kinder und Jugendliche zwischen 10 und 14 Jahren findet von 11 bis 17 Uhr statt und wird durch das Programm „Kulturrucksack NRW“ gefördert. Eine Anmeldung ist erforderlich: museum@juelich.de oder 02461 / 63510. \nSich selbst einen Spiegel vorhalten – das wird wortwörtlich bei diesem Workshop gemacht. Die jungen Leute malen sich selbst als Hinterglasbild. Durch die Glasoberfläche strahlt das Bild in ungewöhnlich leuchtenden Farben. Für Details dient ein Foto als Vorlage. Worauf bei einem Selbstporträt zu achten ist\, wird an Beispielen aus der Ausstellung „Ecce Ego. Jens Dummer – Selbstbildnisse“ gezeigt. Am Ende wird das Selbstporträt standesgemäß mit einem alten Rahmen veredelt. \nAlle Informationen gibt es unter www.museum-zitadelle.de/kulturrucksack. \n
URL:https://www.herzog-magazin.de/event/museum-zitadelle-kreativ-in-den-herbstferien/
LOCATION:Museum Zitadelle\, Schlossstraße\, Jülich\, 52428
CATEGORIES:für Jugendliche,für Kinder,Kunst & Design,Workshop
ATTACH;FMTTYPE=image/jpeg:https://www.herzog-magazin.de/wp-content/uploads/2023/09/MuseumZitadelle_kreativ_Foto_StadtJuelich_MuseumZitadelle.jpg
ORGANIZER;CN="Stadt%20J%C3%BClich":MAILTO:info@juelich.de
END:VEVENT
END:VCALENDAR