    BEGIN:VCALENDAR
VERSION:2.0
PRODID:-//HERZOG Kultur- &amp; Stadtmagazin - ECPv4.9.2//NONSGML v1.0//EN
CALSCALE:GREGORIAN
METHOD:PUBLISH
X-WR-CALNAME:HERZOG Kultur- &amp; Stadtmagazin
X-ORIGINAL-URL:https://www.herzog-magazin.de
X-WR-CALDESC:Veranstaltungen im HERZOG Kultur- &amp; Stadtmagazin
BEGIN:VEVENT
DTSTART;TZID=Europe/Berlin:20221213T190000
DTEND;TZID=Europe/Berlin:20221213T190000
DTSTAMP:20260424T150514
CREATED:20221129T111108Z
LAST-MODIFIED:20221129T111929Z
UID:94513-1670958000-1670958000@www.herzog-magazin.de
SUMMARY:Museumsführung mit Heiner Altmeppen
DESCRIPTION:Das Museum im Kulturhaus wurde am 28. November 1992 eröffnet. Anlässlich des Jubiläums bietet Museumsleiter Marcell Perse monatliche öffentliche Führungen in der Landschaftsgalerie an\, die sich jeweils einem besonderen Thema widmen.  \nMarcell Perse und der Künstler Heiner Altmeppen führen am Dienstag\, 13. Dezember\, um 19 Uhr zu dem Thema „Alte Bilder\, neuer Blick – Führung im Dialog“ durch die Ausstellung. Der Künstler gehört zu den profiliertesten Vertretern des Realismus‘ in der zeitgenössischen Kunst. In seiner Arbeit steht die vom Menschen geschaffene Landschaft im Vordergrund. Ein neues Werk bringt der Künstler mit zum Vergleich mit den alten Meistern. \nDer Eintritt beträgt 5 Euro. Die Führung ist kostenlos. Der Förderverein Museum Jülich e.V. freut sich über eine Spende für eine Neuerwerbung.  \nIm neuen Jahr sind jeweils um 19 Uhr folgende Führungen vorgesehen:\n18. Januar mit Dorothée Schenk: Wo fängt die Moderne an – Führung im Dialog mit der „Herzogin“\n9. Februar: Kunst & Spiel – Eine Führung mit Überraschungen\n10. März mit Stephanie Decker: Malweiber – Künstlerinnen in der Landschaft \n
URL:https://www.herzog-magazin.de/event/museumsfuehrung-mit-heiner-altmeppen/
LOCATION:Kulturhaus am Hexenturm\, Kleine Rurstraße\, Jülich\, NRW\, 52428\, Deutschland
CATEGORIES:Ausstellung,Kunst & Design
ATTACH;FMTTYPE=image/jpeg:https://www.herzog-magazin.de/wp-content/uploads/2022/11/Museum-Zitadelle-im-Dezember-Foto-Museum-Zitadelle-Juelich.jpg
ORGANIZER;CN="Stadt%20J%C3%BClich":MAILTO:info@juelich.de
END:VEVENT
END:VCALENDAR