    BEGIN:VCALENDAR
VERSION:2.0
PRODID:-//HERZOG Kultur- &amp; Stadtmagazin - ECPv4.9.2//NONSGML v1.0//EN
CALSCALE:GREGORIAN
METHOD:PUBLISH
X-WR-CALNAME:HERZOG Kultur- &amp; Stadtmagazin
X-ORIGINAL-URL:https://www.herzog-magazin.de
X-WR-CALDESC:Veranstaltungen im HERZOG Kultur- &amp; Stadtmagazin
BEGIN:VEVENT
DTSTART;TZID=Europe/Berlin:20250628T193000
DTEND;TZID=Europe/Berlin:20250628T193000
DTSTAMP:20260420T171526
CREATED:20250515T120641Z
LAST-MODIFIED:20250515T121038Z
UID:147405-1751139000-1751139000@www.herzog-magazin.de
SUMMARY:Musikalische Sommernacht im PZ
DESCRIPTION:Unter neuer Leitung präsentiert das Collegium Musicum Jülich am Samstag\, 28.6. um 19.30 Uhr im PZ des Gymnasiums Zitadelle sein neues Sommerprogramm. Seit Februar dieses Jahres hat der aus Jülich stammende Martin Schädlich den Taktstock beim Jülicher Sinfonieorchester übernommen und zeigt den treuen Zuhörern des Collegium Musicums ein abwechslungsreiches Konzertprogramm bestehend aus der Ouvertüre und dem NoUurno aus Mendelssohn Bartholdys Sommernachtstraum\, Rachmaninoffs Scherzo in d-Moll\, Beethovens Sinfonie Nr. 3 „Eroica“ und gemeinsam mit dem diesmaligen Solisten Soteris Chrysostomou das Konzert für Posaune und Orchester des dänischen Komponisten Launy Grøndahl. \nDer Posaunist Soteris Chrysostomou wurde in Strovolos auf Zypern geboren\, wo er seit seinem dreizehnten Lebensjahr Posaunenunterricht erhielt und schon früh für besondere Leistungen ausgezeichnet wurde. Seit 2011 war er Stipendiat der Heritage Foundation Ifigenia und Charalambos Marathebis und nahm 2012 sein Studium für Posaune an der Hochschüle für Musik Detmold bei Otmar Strobel auf. Neben Soloauftitten mit dem Cyprus Youth Symphony Orchestra und dem Cyprus Symphony Orchestra war Soteris Chrysostomou Mitglied des European Union Youth Orchestras\, wo er die Soloposaune übernahm\, wofür er 2014 die Lionel Bryer Auszeichnung erhielt. Zwischen 2016 und 2018 war er Akademist beim Deutschen Nationaltheater und der Staatskapelle Weimar. Seit 2019 ist Soteris Chrysostomou Soloposaunist beim Sinfonieorchester Aachen. \nDer Konzertabend beginnt romantisch und lautmalerisch fröhlich mit Mendelssohns Sommernachtstraum und führt über das virtuos beschwingte Scherzo von Sergej Rachmaninoff zu Grøndahls neoklassischen und sphärischen Posaunenkonzert. Nach der Pause dürfen sich die Zuhörer dann auf das große Finale mit Beethovens gewaltiger Sinfonie „Eroica“ freuen. \nKarten gibt es im Vorverkauf für 15 Euro\, Schüler und Studenten zahlen ermäßigt 7 Euro. bei ProstDruck Jülich\, Rur-Apotheke Jülich oder online unter www.sinfonieorchester-juelich.de. Kinder in Begleitung Erwachsener haben freien Eintritt. Restkarten an der Abendkasse erhältlich \n
URL:https://www.herzog-magazin.de/event/musikalische-sommernacht-im-pz/
LOCATION:PZ Gymnasium Zitadelle\, In der Zitadelle\, Jülich\, NRW\, 52428
GEO:50.9252978;6.3600112
X-APPLE-STRUCTURED-LOCATION;VALUE=URI;X-ADDRESS=PZ Gymnasium Zitadelle In der Zitadelle Jülich NRW 52428;X-APPLE-RADIUS=500;X-TITLE=In der Zitadelle:geo:6.3600112,50.9252978
CATEGORIES:Musik,Musik & Konzerte
ATTACH;FMTTYPE=image/jpeg:https://www.herzog-magazin.de/wp-content/uploads/2025/05/c_Gerard-Collett.jpg
END:VEVENT
END:VCALENDAR