    BEGIN:VCALENDAR
VERSION:2.0
PRODID:-//HERZOG Kultur- &amp; Stadtmagazin - ECPv4.9.2//NONSGML v1.0//EN
CALSCALE:GREGORIAN
METHOD:PUBLISH
X-WR-CALNAME:HERZOG Kultur- &amp; Stadtmagazin
X-ORIGINAL-URL:https://www.herzog-magazin.de
X-WR-CALDESC:Veranstaltungen im HERZOG Kultur- &amp; Stadtmagazin
BEGIN:VEVENT
DTSTART;TZID=Europe/Berlin:20230908T200000
DTEND;TZID=Europe/Berlin:20230908T200000
DTSTAMP:20260419T145802
CREATED:20230829T134714Z
LAST-MODIFIED:20230829T134714Z
UID:113294-1694203200-1694203200@www.herzog-magazin.de
SUMMARY:Musikschulband „Beat it“ im KuBa
DESCRIPTION:Die 9-köpfige Band „Beat it“ begibt sich am Freitag\, 8. September auf die Bühne des Jülicher Kulturbahnhofs\, Bahnhofstraße 13. Dann ist die Band der Musikschule Jülich ab 20 Uhr dort zu hören. Einlass wird ab 19.30 Uhr gewährt. Der Eintritt ist frei. \nDie Band „Beat it“ wurde 2018 während eines Bandworkshops unter der Leitung des Jazzpianisten und Dozenten Stefan Michalke an der Musikschule Jülich gegründet. Im Laufe der Zeit hat sich die Besetzung verändert\, wobei der Schlagzeuger Denis Etzkorn das einzige „Gründungsmitglied“ ist. Die aktuelle Formation besteht seit März 2023 aus Semia Danz (Gesang)\, Miriam Kümmerle (Gesang)\, Jan Etzkorn (Gitarre)\, Milena Boltes (Keyboard)\, Lukas Müller (Bass) und Denis Etzkorn (Schlagzeug). \nSeit diesem Sommer hat die Band die Besetzung für einige Stücke um drei Streicher erweitert: Marit Gussen (Violine)\, Meryl Wien (Viola) und Yunis El Mitwalli (Cello).\nDas Repertoire\, das aus bekannten Rock- und Popsongs besteht\, wird von den Bandmitgliedern selbst ausgewählt. Stefan Michalke coacht sie mit umfangreicher Banderfahrung bei der musikalischen Entwicklung. „Beat it“ verbindet anspruchsvolle Musik mit Spielfreude und schafft eine mitreißende Darbietung. \n
URL:https://www.herzog-magazin.de/event/musikschulband-beat-it-im-kuba/
LOCATION:Kulturbahnhof (KuBa) Jülich\, Bahnhofsstraße 13\, Jülich\, NRW\, 52428\, Deutschland
GEO:50.91828;6.36768
X-APPLE-STRUCTURED-LOCATION;VALUE=URI;X-ADDRESS=Kulturbahnhof (KuBa) Jülich Bahnhofsstraße 13 Jülich NRW 52428 Deutschland;X-APPLE-RADIUS=500;X-TITLE=Bahnhofsstraße 13:geo:6.36768,50.91828
CATEGORIES:Musik,Musik & Konzerte
ATTACH;FMTTYPE=image/jpeg:https://www.herzog-magazin.de/wp-content/uploads/2023/08/Musikschuleband_Beat_it_2023.jpg
ORGANIZER;CN="Stadt%20J%C3%BClich":MAILTO:info@juelich.de
END:VEVENT
END:VCALENDAR