    BEGIN:VCALENDAR
VERSION:2.0
PRODID:-//HERZOG Kultur- &amp; Stadtmagazin - ECPv4.9.2//NONSGML v1.0//EN
CALSCALE:GREGORIAN
METHOD:PUBLISH
X-WR-CALNAME:HERZOG Kultur- &amp; Stadtmagazin
X-ORIGINAL-URL:https://www.herzog-magazin.de
X-WR-CALDESC:Veranstaltungen im HERZOG Kultur- &amp; Stadtmagazin
BEGIN:VEVENT
DTSTART;TZID=Europe/Berlin:20230918T150000
DTEND;TZID=Europe/Berlin:20230918T150000
DTSTAMP:20260423T051953
CREATED:20230914T180125Z
LAST-MODIFIED:20230914T180228Z
UID:114326-1695049200-1695049200@www.herzog-magazin.de
SUMMARY:Stadtteilzentrum: „Familienpatenschaften“
DESCRIPTION:Der Nachbarschaftskaffee im Stadtteilzentrum Jülich-Nordviertel findet nach einer längeren Pause am Montag\, 18. September\, wieder statt. Zum Neustart werden in Kooperation mit dem Sozialdienst Katholischer Frauen Düren e.V. Informationen über das Projekt „Familienpatenschaften Düren / Jülich“ präsentiert. \nDas Projekt „Familienpatenschaften Düren / Jülich“ bringt seit vielen Jahren die Generationen zusammen. Engagierte Seniorinnen und Senioren\, die gerne ihre Zeit schenken und Freude am Austausch mit anderen Menschen haben\, können Familien als Paten zur Seite stehen und sie unterstützen und entlasten.  \nWer Interesse an diesem Projekt hat\, ist herzlich eingeladen\, am 18. September um 15 Uhr zum Nachbarschaftskaffee im Stadtteilzentrum Jülich-Nordviertel\, Nordstraße 39\, zu kommen. Für die Teilnahme am Kaffee- und Kuchenbuffet wird ein Beitrag in Höhe von 2\,50 Euro pro Person erhoben. \nWeitere Informationen zu dieser und anderen Veranstaltungen im Stadtteilzentrum Jülich-Nordviertel sind im Fachbereich für Quartiersmanagement und Mehrgenerationen unter der Telefonnummer 02461 / 63211 oder per E-Mail an SHaxha@juelich.de erhältlich.  \n
URL:https://www.herzog-magazin.de/event/nachbarschaftskaffee-familienpatenschaften/
LOCATION:Stadtteilzentrum Nordviertel\, Nordstraße 39\, Jülich\, NRW\, 52428\, Deutschland
CATEGORIES:Essen & Trinken,Rat & Hilfe,Senioren
ATTACH;FMTTYPE=image/jpeg:https://www.herzog-magazin.de/wp-content/uploads/2022/05/Stadtteilzentrum-Nordviertel-2018_-HERZOG.jpg
ORGANIZER;CN="Stadt%20J%C3%BClich":MAILTO:info@juelich.de
END:VEVENT
END:VCALENDAR