    BEGIN:VCALENDAR
VERSION:2.0
PRODID:-//HERZOG Kultur- &amp; Stadtmagazin - ECPv4.9.2//NONSGML v1.0//EN
CALSCALE:GREGORIAN
METHOD:PUBLISH
X-WR-CALNAME:HERZOG Kultur- &amp; Stadtmagazin
X-ORIGINAL-URL:https://www.herzog-magazin.de
X-WR-CALDESC:Veranstaltungen im HERZOG Kultur- &amp; Stadtmagazin
BEGIN:VEVENT
DTSTART;TZID=Europe/Berlin:20231120T150000
DTEND;TZID=Europe/Berlin:20231120T163000
DTSTAMP:20260419T234807
CREATED:20231023T161959Z
LAST-MODIFIED:20231023T161959Z
UID:116919-1700492400-1700497800@www.herzog-magazin.de
SUMMARY:Nachbarschaftskaffee im Nordviertel
DESCRIPTION:Beim Nachbarschaftskaffee können interessierte Menschen gemeinsam mit anderen Bewohnerinnen und Bewohnern aus ihrem Quartier einen geselligen Nachmittag bei Kaffee und Kuchen verbringen. Das Angebot findet im Stadtteilzentrum Nordviertel\, Nordstraße 39\, am Montag\, 20. November\, von 15 bis 16.30 Uhr statt.  \nEs wird ein Kostenbeitrag in Höhe von 2\,50 Euro pro Person erhoben. Eine Anmeldung ist nicht erforderlich. \n
URL:https://www.herzog-magazin.de/event/nachbarschaftskaffee-im-nordviertel-2/
LOCATION:Stadtteilzentrum Nordviertel\, Nordstraße 39\, Jülich\, NRW\, 52428\, Deutschland
CATEGORIES:Essen & Trinken,Sonstiges
ATTACH;FMTTYPE=image/jpeg:https://www.herzog-magazin.de/wp-content/uploads/2022/05/Stadtteilzentrum-Nordviertel-2018_-HERZOG.jpg
ORGANIZER;CN="Stadt%20J%C3%BClich":MAILTO:info@juelich.de
END:VEVENT
END:VCALENDAR