    BEGIN:VCALENDAR
VERSION:2.0
PRODID:-//HERZOG Kultur- &amp; Stadtmagazin - ECPv4.9.2//NONSGML v1.0//EN
CALSCALE:GREGORIAN
METHOD:PUBLISH
X-WR-CALNAME:HERZOG Kultur- &amp; Stadtmagazin
X-ORIGINAL-URL:https://www.herzog-magazin.de
X-WR-CALDESC:Veranstaltungen im HERZOG Kultur- &amp; Stadtmagazin
BEGIN:VEVENT
DTSTART;TZID=Europe/Berlin:20231016T150000
DTEND;TZID=Europe/Berlin:20231016T150000
DTSTAMP:20260423T003358
CREATED:20231013T102627Z
LAST-MODIFIED:20231013T102627Z
UID:116287-1697468400-1697468400@www.herzog-magazin.de
SUMMARY:Nachbarschaftskaffee im Nordviertel
DESCRIPTION:Die Stadt Jülich lädt die Bewohnerinnen und Bewohner des Nordviertels herzlich zum Nachbarschaftskaffee am Montag\, 16. Oktober\, um 15 Uhr in das Stadtteilzentrum Jülich-Nordviertel\, Nordstraße 39\, ein. Der Nachbarschaftskaffee ist eine wunderbare Gelegenheit\, Mitbewohnerinnen und Mitbewohnern kennenzulernen und gemeinsam eine schöne Zeit zu verbringen und dabei eine Auswahl an köstlichen Kuchen und Kaffee in gemütlicher Atmosphäre zu genießen.  \nFür die Teilnahme am Kaffee- und Kuchenbuffet wird ein Beitrag in Höhe von 2\,50 Euro pro Person erhoben. Weitere Informationen zu dieser und anderen Veranstaltungen im Stadtteilzentrum Jülich-Nordviertel sind im Fachbereich für Quartiersmanagement und Mehrgenerationen unter der Telefonnummer 02461 / 63211 oder per E-Mail an SHaxha@juelich.de erhältlich.  \n
URL:https://www.herzog-magazin.de/event/nachbarschaftskaffee-im-nordviertel/
LOCATION:Stadtteilzentrum Nordviertel\, Nordstraße 39\, Jülich\, NRW\, 52428\, Deutschland
CATEGORIES:Essen & Trinken,Sonstiges
ATTACH;FMTTYPE=image/jpeg:https://www.herzog-magazin.de/wp-content/uploads/2022/05/Stadtteilzentrum-Nordviertel-2018_-HERZOG.jpg
ORGANIZER;CN="Stadt%20J%C3%BClich":MAILTO:info@juelich.de
END:VEVENT
END:VCALENDAR