    BEGIN:VCALENDAR
VERSION:2.0
PRODID:-//HERZOG Kultur- &amp; Stadtmagazin - ECPv4.9.2//NONSGML v1.0//EN
CALSCALE:GREGORIAN
METHOD:PUBLISH
X-WR-CALNAME:HERZOG Kultur- &amp; Stadtmagazin
X-ORIGINAL-URL:https://www.herzog-magazin.de
X-WR-CALDESC:Veranstaltungen im HERZOG Kultur- &amp; Stadtmagazin
BEGIN:VEVENT
DTSTART;TZID=Europe/Berlin:20230128T200000
DTEND;TZID=Europe/Berlin:20230128T200000
DTSTAMP:20260425T114620
CREATED:20221230T185155Z
LAST-MODIFIED:20221230T185155Z
UID:95714-1674936000-1674936000@www.herzog-magazin.de
SUMMARY:Nachholtermin: Anja Zink im KuBa
DESCRIPTION:Hurra\, wir leben noch! Anka Zink ist wieder am Start. Zwar nicht an Bord der Blue-Origin-Rakete\, aber ihren Rollkoffer für das Über-All hat sie sicherheitshalber schon gepackt. Sie kommt mit „Gerade noch mal gutgegangen“ direkt aus dem schwarzen Loch. Genauso anziehend und eine ebenso starke Gravitation erzeugend… In Jülich gastiert sie am Samstag\, 28. Januar\, um 20 Uhr mit neuem Programm für einen kabarettistischen Wohlfühlabend. \n„Hatten wir nicht vor\, etwas aus dem Lockdown zu lernen?“\, lautet die erste „böse Frage“\, auf die es Antworten gibt wie diese: „Wenigstens kann man mit Applaus die Miete bezahlen\, Pfleger motivieren und Hilfskräfte trösten.“ Wer soll das ganze Durcheinander in Ordnung bringen? Bill und Melinda Gates haben andere Sorgen\, Merkel\, Jogi und Bohlen liegen schon am Pool und Nena auf einem anderen Planeten. Bleiben nur noch Arnold Schwarzenegger\, Greta Thunberg und Anka Zink!  \nDa Anka Zink zuerst auf der Erde nach intelligentem Leben suchen will\, ist „Gerade noch mal gutgegangen“ wie eine Fahrt auf der Titanic\, bei der ein Eisberg sicher umschifft wird\, weil er aus Plastik ist. Während die einen sich nur noch in der Nähe der ausgeschilderten Fluchtwege aufhalten und die anderen auf Deck ihre Bestellungen aufgeben\, schaut Frau Zink statt in die Röhre ins Fernglas. Damit die Fahrt so richtig lustig wird\, macht sie das natürlich von der Bar aus.  \nEin visionäres Programm mit hohem Wellengang und einer sturmerfahrenen Anka Zink\, die uns Mut gegen das „Zurück-zur-Normalität-Virus“ einimpft und uns in Lichtgeschwindigkeit durch die Stimmungsschwankungen unserer Zeit beamt.\nEs handelt sich um einen Nachholtermin. Bereits erworbene Tickets behalten die Gültigkeit! \nDie Veranstaltung vom KulturBüro Stadt Jülich und dem Verein Kultur im Bahnhof e.V. beginnt um 20 Uhr. Tickets sind im Vorverkauf zu 17 Euro zzgl. Gebühren (Abendkasse 20 Euro) bei der Buchhandlung Thalia in Jülich\, Kölnstraße 9\, und auf der Internetseite des Kulturbüros auf www.juelich.de/kulturbuero erhältlich. \n
URL:https://www.herzog-magazin.de/event/nachholtermin-anja-zink-im-kuba/
LOCATION:Kulturbahnhof (KuBa) Jülich\, Bahnhofsstraße 13\, Jülich\, NRW\, 52428\, Deutschland
GEO:50.91828;6.36768
X-APPLE-STRUCTURED-LOCATION;VALUE=URI;X-ADDRESS=Kulturbahnhof (KuBa) Jülich Bahnhofsstraße 13 Jülich NRW 52428 Deutschland;X-APPLE-RADIUS=500;X-TITLE=Bahnhofsstraße 13:geo:6.36768,50.91828
CATEGORIES:Kabarett & Comedy
ATTACH;FMTTYPE=image/jpeg:https://www.herzog-magazin.de/wp-content/uploads/2022/12/Anja-Zink-az_hh_portrait_linnmarx.com_1.jpg
ORGANIZER;CN="Stadt%20J%C3%BClich":MAILTO:info@juelich.de
END:VEVENT
END:VCALENDAR