    BEGIN:VCALENDAR
VERSION:2.0
PRODID:-//HERZOG Kultur- &amp; Stadtmagazin - ECPv4.9.2//NONSGML v1.0//EN
CALSCALE:GREGORIAN
METHOD:PUBLISH
X-WR-CALNAME:HERZOG Kultur- &amp; Stadtmagazin
X-ORIGINAL-URL:https://www.herzog-magazin.de
X-WR-CALDESC:Veranstaltungen im HERZOG Kultur- &amp; Stadtmagazin
BEGIN:VEVENT
DTSTART;TZID=Europe/Berlin:20260206T191100
DTEND;TZID=Europe/Berlin:20260206T191100
DTSTAMP:20260421T050112
CREATED:20260108T113025Z
LAST-MODIFIED:20260108T113444Z
UID:159861-1770405060-1770405060@www.herzog-magazin.de
SUMMARY:Nachtzug in Koslar
DESCRIPTION:IG Nachtzug stellt auch wieder in diesem Jahr den Nachtzug durch Koslar auf die Beine. Der Startschuss für das närrische Treiben fällt am Freitag\, 6. Februar\, um 19.11 Uhr bei Nacht und Dunkelheit. \nDer Start ist an der Crombachstraße\, dann geht es durch Am Katzepohl\, Friedensstraße\, Ostring\, Bornstraße\, Jägerstraße und Kampstraße\, bevor der Rückweg über die Crombachstraße bis zum Rottplatz angetreten wird.\nZum Ausklang lädt die neue IG Nachtzug nach dem Zug auf den Rottplatz ein. \n
URL:https://www.herzog-magazin.de/event/nachtzug-in-koslar/
LOCATION:Koslar
CATEGORIES:Brauchtum
ATTACH;FMTTYPE=image/jpeg:https://www.herzog-magazin.de/wp-content/uploads/2025/02/IMG_8407_web.jpg
END:VEVENT
END:VCALENDAR