    BEGIN:VCALENDAR
VERSION:2.0
PRODID:-//HERZOG Kultur- &amp; Stadtmagazin - ECPv4.9.2//NONSGML v1.0//EN
CALSCALE:GREGORIAN
METHOD:PUBLISH
X-WR-CALNAME:HERZOG Kultur- &amp; Stadtmagazin
X-ORIGINAL-URL:https://www.herzog-magazin.de
X-WR-CALDESC:Veranstaltungen im HERZOG Kultur- &amp; Stadtmagazin
BEGIN:VEVENT
DTSTART;TZID=Europe/Berlin:20220521T190000
DTEND;TZID=Europe/Berlin:20220521T210000
DTSTAMP:20260423T225429
CREATED:20220516T092222Z
LAST-MODIFIED:20220516T092222Z
UID:79729-1653159600-1653166800@www.herzog-magazin.de
SUMMARY:Nachwächterführung in  Linnich
DESCRIPTION:Mit dem Nachtwächter durch Linnichs Gassen: Wenn im Mittelalter die Feuer in den Häusern von Linnich erloschen und die Bürgerinnen und Bürger ihre Nachthauben anlegten\, begann für die Nachwächter die Arbeit. Was und wer ihnen in der Dunkelheit alles begegnete\, lässt sich bei der indeland-Erlebnisführung „Des Nachts durch Linnichs Gassen. Lasset euch heimleuchten“ am Samstag\, 21. Mai\, herausfinden. Mit Hellebarde und Laterne geht Nachtwächter Helmes mit seinen Gästen nach Einbruch der Dunkelheit erzählend\, singend und dichtend auf seine nächtliche Tour durchs schummrige Linnich und wird amüsant und informativ heimleuchten. \nTreffpunkt ist um 19 Uhr unterhalb der Turmuhr auf dem Kirchplatz in Linnich. Die Teilnahme an der etwa zwei Stunden dauernden Tour kostet 7\,50 Euro für Erwachsene und 5 Euro für Kinder ab sechs Jahren. Das Familien-Ticket für zwei Erwachsene und bis zu drei Kinder kostet nur 20 Euro.  \nEine Anmeldung beim indeland Tourismus e. V. (Tel. 02421 / 22-1084126\, E-Mail info@indeland-erleben.de) ist erforderlich. \nWeitere Informationen unter www.indeland-erleben.de/angebote im Internet. \n
URL:https://www.herzog-magazin.de/event/nachwaechterfuehrung-in-linnich/
LOCATION:Linnich
CATEGORIES:Brauchtum,für Familien,Geschichte
ATTACH;FMTTYPE=image/jpeg:https://www.herzog-magazin.de/wp-content/uploads/2022/05/indeland-1.jpg
ORGANIZER;CN="indeland%20Tourismus%20e.V.":MAILTO:info@indeland-erleben.de
END:VEVENT
END:VCALENDAR