    BEGIN:VCALENDAR
VERSION:2.0
PRODID:-//HERZOG Kultur- &amp; Stadtmagazin - ECPv4.9.2//NONSGML v1.0//EN
CALSCALE:GREGORIAN
METHOD:PUBLISH
X-WR-CALNAME:HERZOG Kultur- &amp; Stadtmagazin
X-ORIGINAL-URL:https://www.herzog-magazin.de
X-WR-CALDESC:Veranstaltungen im HERZOG Kultur- &amp; Stadtmagazin
BEGIN:VEVENT
DTSTART;TZID=Europe/Berlin:20230922T193000
DTEND;TZID=Europe/Berlin:20230922T193000
DTSTAMP:20260423T090637
CREATED:20230908T151853Z
LAST-MODIFIED:20230911T100111Z
UID:113886-1695411000-1695411000@www.herzog-magazin.de
SUMMARY:Nadia Singer spielt Gershwin
DESCRIPTION:Unter dem Motto „George Gershwin Leben und Musik“ kommt Nadia Singer wieder nach Jülich. In der Schlosskapelle der Zitadelle gibt sie am Freitag\, 22. September\, um 19.30 Uhr ein Konzert. \nGeorge Gershwin gilt als der erste amerikanische Komponist\, der die Mauer zwischen klassischer und populärer Musik durchbrach und einen enormen Einfluss auf die Entwicklung des Jazz hatte. Er definierte den Klang Amerikas. Gut aussehend\, reich\, berühmt und sehr fleißig begeisterte er seine Zeitgenossen mit seinem Werk und wurde weit über die Grenzen Amerikas hinaus bekannt. \nNadia Singer zeigt am Klavier\, wie Gershwin den Lauf der Musik für immer verändert hat. Unter anderem erklingen seine Klavierwerke\, ausgewählte Lieder aus dem „Songbook“\, der Oper „Porgy and Bess“ und natürlich das Stück\, das ihn schon mit 25 Jahren berühmt und reich machte – „Rhapsody in Blue“ – in Gershwins Klavierfassung. \nSeine Persönlichkeit\, seine Musik\, die kongeniale Zusammenarbeit mit seinem Bruder Ira Gershwin\, seine Frauen und Freunde\, der Zeitgeist im Amerika zu Anfang des 20. Jahrhunderts\, den Gershwin mit prägte durch den Soundtrack seiner Musik. Das alles wird durch Nadias heitere Moderation gegenwärtig. \nKarten können im Vorverkauf unter nadiasinger.com/konzerte/museum-zitadelle unverbindlich reserviert werden. Der Eintrittspreis beträgt 29 Euro\, Studenten bis 24 Jahren zahlen 15 Euro. Kinder unter 14 Jahren haben freien Eintritt. \n
URL:https://www.herzog-magazin.de/event/nadia-singer-spielt-gershwin/
LOCATION:Schlosskapelle der Zitadelle\, Schloßstraße\, Jülich\, NRW\, 52428\, Deutschland
CATEGORIES:Musik,Musik & Konzerte
ATTACH;FMTTYPE=image/jpeg:https://www.herzog-magazin.de/wp-content/uploads/2023/09/Biographie-web.jpeg
ORGANIZER;CN="Nadia%20Singer":MAILTO:nadiasinger@t-online.de
END:VEVENT
END:VCALENDAR