    BEGIN:VCALENDAR
VERSION:2.0
PRODID:-//HERZOG Kultur- &amp; Stadtmagazin - ECPv4.9.2//NONSGML v1.0//EN
CALSCALE:GREGORIAN
METHOD:PUBLISH
X-WR-CALNAME:HERZOG Kultur- &amp; Stadtmagazin
X-ORIGINAL-URL:https://www.herzog-magazin.de
X-WR-CALDESC:Veranstaltungen im HERZOG Kultur- &amp; Stadtmagazin
BEGIN:VEVENT
DTSTART;TZID=Europe/Berlin:20260117T180000
DTEND;TZID=Europe/Berlin:20260117T180000
DTSTAMP:20260419T190001
CREATED:20251120T122546Z
LAST-MODIFIED:20251120T122546Z
UID:158049-1768672800-1768672800@www.herzog-magazin.de
SUMMARY:Neujahrstreffen in Barmen
DESCRIPTION:Zu Beginn des neuen Jahres sind die ganze Gemeinde Barmen und alle darüber hinaus Interessierten ganz herzlich zum Neujahrstreffen eingeladen. \nNach der Hl. Messe am Samstag\, 17. Januar\, um 18 Uhr trifft man sich im Gemeinderaum Barmen (Kirchstr. 4)\, um bei Getränken und Gesprächen auf das neue Jahr anzustoßen. \n
URL:https://www.herzog-magazin.de/event/neujahrstreffen-in-barmen-2/
LOCATION:Gemeindezentrum Barmen\, Kirchstraße 4\, Jülich\, 52428
GEO:50.94157;6.30443
X-APPLE-STRUCTURED-LOCATION;VALUE=URI;X-ADDRESS=Gemeindezentrum Barmen Kirchstraße 4 Jülich 52428;X-APPLE-RADIUS=500;X-TITLE=Kirchstraße 4:geo:6.30443,50.94157
CATEGORIES:Essen & Trinken,Religion
ATTACH;FMTTYPE=image/jpeg:https://www.herzog-magazin.de/wp-content/uploads/2023/08/Barmen-IMG_2602-StMartinus-2018.jpg
ORGANIZER;CN="Kath.%20Pfarrei%20Heilig%20Geist%20J%C3%BClich":MAILTO:pfarramt@heilig-geist-juelich.de
END:VEVENT
END:VCALENDAR