    BEGIN:VCALENDAR
VERSION:2.0
PRODID:-//HERZOG Kultur- &amp; Stadtmagazin - ECPv4.9.2//NONSGML v1.0//EN
CALSCALE:GREGORIAN
METHOD:PUBLISH
X-WR-CALNAME:HERZOG Kultur- &amp; Stadtmagazin
X-ORIGINAL-URL:https://www.herzog-magazin.de
X-WR-CALDESC:Veranstaltungen im HERZOG Kultur- &amp; Stadtmagazin
BEGIN:VEVENT
DTSTART;TZID=Europe/Berlin:20230522T160000
DTEND;TZID=Europe/Berlin:20230522T173000
DTSTAMP:20260421T135315
CREATED:20230505T102935Z
LAST-MODIFIED:20230505T102935Z
UID:106057-1684771200-1684776600@www.herzog-magazin.de
SUMMARY:Neuwahlen bei der Senioren Union
DESCRIPTION:Nach zwei Jahren steht bei der Senioren Union des Kreisverbandes Düren-Jülich am Montag\, 22. Mai\, eine Mitgliederversammlung mit Neuwahlen an. Die Versammlung findet von 16 bi 17.30 Uhr im großen Sitzungssaal auf der 1. Etage des Neuen Rathauses am Schwanenteich\, Große Rurstraße\, statt. \n
URL:https://www.herzog-magazin.de/event/neuwahlen-bei-der-senioren-union/
LOCATION:Neues Rathaus\, Große Rurstraße 17\, Jülich\, NRW\, 52428\, Deutschland
GEO:50.92136;6.36263
X-APPLE-STRUCTURED-LOCATION;VALUE=URI;X-ADDRESS=Neues Rathaus Große Rurstraße 17 Jülich NRW 52428 Deutschland;X-APPLE-RADIUS=500;X-TITLE=Große Rurstraße 17:geo:6.36263,50.92136
CATEGORIES:Politik,Versammlungen
ATTACH;FMTTYPE=image/jpeg:https://www.herzog-magazin.de/wp-content/uploads/2023/03/Senioren-Union-CDU-Stadtverband-Juelich.jpg
END:VEVENT
END:VCALENDAR