    BEGIN:VCALENDAR
VERSION:2.0
PRODID:-//HERZOG Kultur- &amp; Stadtmagazin - ECPv4.9.2//NONSGML v1.0//EN
CALSCALE:GREGORIAN
METHOD:PUBLISH
X-WR-CALNAME:HERZOG Kultur- &amp; Stadtmagazin
X-ORIGINAL-URL:https://www.herzog-magazin.de
X-WR-CALDESC:Veranstaltungen im HERZOG Kultur- &amp; Stadtmagazin
BEGIN:VEVENT
DTSTART;TZID=Europe/Berlin:20230916T100000
DTEND;TZID=Europe/Berlin:20230916T120000
DTSTAMP:20260423T182210
CREATED:20230904T111640Z
LAST-MODIFIED:20230904T114834Z
UID:113553-1694858400-1694865600@www.herzog-magazin.de
SUMMARY:Nordschule Jülich: Tag der Offenen Tür
DESCRIPTION:Das Team der Nordschule lädt am Samstag\, 16. September alle Kinder\, die im Schuljahr 2024 / 25 eingeschult werden\, und ihre Eltern ein\, den Standort Berliner Straße kennenzulernen. Interessierte Familien erhalten von 10 bis 12 Uhr Einblick in den Standort\, das Raumangebot\, Arbeitsweise\, Konzepte\, digitales Lernen\, Förder-\, Forder- und Betreuungsmöglichkeiten. \nDas Team aus Vor- und Nachmittag steht bereit\, Fragen zu beantworten. Unterricht findet nicht statt\, jedoch können die Besuchende auf vielfältige Weise einen Eindruck davon gewinnen\, wie das Lernen und das Schulleben in der Grundschule aussehen. Gerne können interessierte Familien am Tag der offenen Tür telefonisch unter  02461 / 91 05 48 oder per Mail an verwaltung@nordschule-juelich.de einen Termin für die Anmeldewoche vom 30. Oktober bis 6. November vereinbaren. \nWeitere Informationen zur Nordschule oder zum Ablauf des Info-Tages oder für den Tag der offenen Tür des Standortes Welldorf sind auf der Homepage der Schule unter www.nordschule-juelich.de zu finden. \n
URL:https://www.herzog-magazin.de/event/nordschule-juelich-tag-der-offenen-tuer-2/
LOCATION:GGS Nord\, Berliner Strasse 8\, Jülich\, NRW\, 52428\, Deutschland
GEO:50.9285249;6.3584058
X-APPLE-STRUCTURED-LOCATION;VALUE=URI;X-ADDRESS=GGS Nord Berliner Strasse 8 Jülich NRW 52428 Deutschland;X-APPLE-RADIUS=500;X-TITLE=Berliner Strasse 8:geo:6.3584058,50.9285249
CATEGORIES:Für Eltern,Informationsveranstaltung,Schule
ATTACH;FMTTYPE=image/jpeg:https://www.herzog-magazin.de/wp-content/uploads/2023/09/GGS-Nord-Berliner.jpg
ORGANIZER;CN="Stadt%20J%C3%BClich":MAILTO:info@juelich.de
END:VEVENT
END:VCALENDAR